BEGIN:VCALENDAR
VERSION:2.0
PRODID:-//Emelin Theatre - ECPv6.15.20//NONSGML v1.0//EN
CALSCALE:GREGORIAN
METHOD:PUBLISH
X-WR-CALNAME:Emelin Theatre
X-ORIGINAL-URL:https://emelin.org
X-WR-CALDESC:Events for Emelin Theatre
REFRESH-INTERVAL;VALUE=DURATION:PT1H
X-Robots-Tag:noindex
X-PUBLISHED-TTL:PT1H
BEGIN:VTIMEZONE
TZID:America/New_York
BEGIN:DAYLIGHT
TZOFFSETFROM:-0500
TZOFFSETTO:-0400
TZNAME:EDT
DTSTART:20210314T070000
END:DAYLIGHT
BEGIN:STANDARD
TZOFFSETFROM:-0400
TZOFFSETTO:-0500
TZNAME:EST
DTSTART:20211107T060000
END:STANDARD
BEGIN:DAYLIGHT
TZOFFSETFROM:-0500
TZOFFSETTO:-0400
TZNAME:EDT
DTSTART:20220313T070000
END:DAYLIGHT
BEGIN:STANDARD
TZOFFSETFROM:-0400
TZOFFSETTO:-0500
TZNAME:EST
DTSTART:20221106T060000
END:STANDARD
BEGIN:DAYLIGHT
TZOFFSETFROM:-0500
TZOFFSETTO:-0400
TZNAME:EDT
DTSTART:20230312T070000
END:DAYLIGHT
BEGIN:STANDARD
TZOFFSETFROM:-0400
TZOFFSETTO:-0500
TZNAME:EST
DTSTART:20231105T060000
END:STANDARD
END:VTIMEZONE
BEGIN:VEVENT
DTSTART;TZID=America/New_York:20221210T110000
DTEND;TZID=America/New_York:20221210T120000
DTSTAMP:20260422T233444
CREATED:20220510T151009Z
LAST-MODIFIED:20260421T154349Z
UID:10000274-1670670000-1670673600@emelin.org
SUMMARY:Click Clack Moo
DESCRIPTION:TheaterWorks USA presents\nClick Clack Moo\n			\n				\n				\n				\n				\n				Saturday\, December 10\, 2022 @ 11am & 2pm\n			\n			\n				\n				\n				\n				\n			\n				\n				\n				\n				\n				\n				\n				Purchase Tickets - 11am | $19 Kids/$24 Adults\n			\n			\n				\n				\n				\n				\n				\n				Purchase Tickets - 2pm | $19 Kids/$24 Adults\n			\n			\n				\n				\n				\n				\n			\n				\n				\n			\n				\n				\n				\n				\n				\n				\n				\n				\n				\n				\n				\n				\n				\n				\n				\n				\n				\n				“Cows that type? Hens on strike! Whoever heard of such a thing!” Farmer Brown cries. \nWhen his granddaughter Jenny comes for a visit\, Farmer Brown declares the farm a tech-free zone. He takes her laptop into the cold barn with the shivering cows who use her computer to type messages requesting blankets. \n“No way\,” replies Farmer Brown. “No blankets!” \nSo the cows go on strike and the chickens join them in solidarity. No blankets? No milk! No eggs! \nWill Farmer Brown give in to the animals’ demands? Will Jenny get her computer back? Find out in a hilariously moving musical about negotiation and compromise\, based on the Caldecott Honor Book by Doreen Cronin and Betsy Lewin. \nApproximate Running Time: 60 Minutes \nRecommended Ages: Grades K through 4 \n			\n			\n				\n				\n				\n				\n				\n				\n				\n				\n				\n				\n			\n				\n				\n				\n				\n				\n				\n			\n				\n				\n				\n				\n				\n			\n			\n				\n				\n				\n				\n			\n				\n				\n				\n				\n				\n				\n				Purchase Tickets - 11am | $19 Kids/$24 Adults\n			\n			\n				\n				\n				\n				\n				\n				Purchase Tickets - 2pm | $19 Kids/$24 Adults\n			\n			\n				\n				\n				\n				\n			\n				\n				\n				\n				\n				\n				\n				\n				\n				\n				\n				\n“Matt Schofield is widely considered one of the best blues guitar players walking the planet…” – Kevin Klein\, medium.com \n\n\n			\n			\n				\n				\n				\n				\n			\n				\n				\n			\n				\n				\n				\n				\n				\n				\n				\n				\n				\n				\n				\n				\n				\n				\n				\n				\n				\n				You May Also Enjoy
URL:https://emelin.org/event/click-clack-moo/
LOCATION:NY
CATEGORIES:Family
ATTACH;FMTTYPE=image/jpeg:https://emelin.org/wp-content/uploads/ClickClackMoo_1200.jpg
END:VEVENT
BEGIN:VEVENT
DTSTART;TZID=America/New_York:20221209T200000
DTEND;TZID=America/New_York:20221209T220000
DTSTAMP:20260422T233444
CREATED:20220517T210724Z
LAST-MODIFIED:20260421T154349Z
UID:10000279-1670616000-1670623200@emelin.org
SUMMARY:Dan Tyminski featuring Gaven Largent
DESCRIPTION:Dan Tyminski \nfeaturing Gaven Largent\n			\n				\n				\n				\n				\n				Friday\, December 9\, 2022 @ 8pm\n			\n				Purchase Tickets | $32\n			\n			\n				\n				\n				\n				\n			\n				\n				\n			\n				\n				\n				\n				\n				\n				\n				\n				\n				\n				\n				\n				\n				\n				\n				\n				\n				\n				Throughout his 30+ year career\, Dan Tyminski has left his mark in every corner of modern music.  In addition to his highly successful solo career\, Dan Tyminski has played guitar and mandolin for Alison Krauss and Union Station since 1994. His unmatched instrumental skills and burnished\, soulful tenor voice has delivered 14 Grammy Awards from 18 nominations among numerous awards and “best of” lists. \n​​No stranger to the world of bluegrass\, Gaven Largent has already become a highly sought-after studio musician.  It’s easy to describe his dobro playing as once-in-a-generation because it is. His note section\, approach to soloing\, and his soulful musicality are second to none. In addition to dobro\, Gaven is accomplished on the banjo\, guitar\, mandolin\, and a world-class vocalist.  He’s also a respected luthier building under his own name: Largent. \n			\n			\n				\n				\n				\n				\n				\n				\n				\n				\n				\n				\n				\n			\n				\n				\n				\n				\n				\n				\n			\n				\n				\n				\n				\n				\n			\n			\n				\n				\n				\n				\n			\n				\n				\n			\n				\n				\n				\n				\n				\n				\n				\n				\n				\n				\n				\n				\n				\n				Purchase Tickets | $32\n			\n				\n				\n				\n				\n				\n“Matt Schofield is widely considered one of the best blues guitar players walking the planet…” – Kevin Klein\, medium.com
URL:https://emelin.org/event/dan-tyminski/
LOCATION:Emelin Theatre\, 153 Library Lane\, Mamaroneck\, NY\, 10543\, United States
CATEGORIES:Bluegrass
ATTACH;FMTTYPE=image/jpeg:https://emelin.org/wp-content/uploads/Tyminski_1200_new.jpg
END:VEVENT
BEGIN:VEVENT
DTSTART;TZID=America/New_York:20221015T200000
DTEND;TZID=America/New_York:20221015T220000
DTSTAMP:20260422T233444
CREATED:20210726T173401Z
LAST-MODIFIED:20260421T154349Z
UID:10000266-1665864000-1665871200@emelin.org
SUMMARY:Ladies Of Laughter
DESCRIPTION:Ladies Of Laughter\n			\n				\n				\n				\n				\n				Saturday\, October 15\, 2022 @ 8pm\n			\n				Purchase Tickets | $35/$45\n			\n			\n				\n				\n				\n				\n			\n				\n				\n			\n				\n				\n				\n				\n				\n				\n				\n				\n				\n				\n				\n				\n				\n				\n				\n				\n				\n				Ladies of Laughter is back! Grab your friends and spend a raucous evening with some of the funniest women doing stand-up today. For over twenty years\, Ladies of Laughter has served as a launching pad for female comedic talent\, with past participants ranging from Amy Schumer to Melissa Rauch. Buy your tickets soon because these ladies typically sell out! \n			\n			\n				\n				\n				\n				\n				\n				\n				\n				\n				\n				\n			\n			\n				\n				\n				\n				\n			\n				\n				\n			\n				\n				\n				\n				\n				\n				\n				\n				\n				\n				\n				\n				\n				\n				\n				\n				\n				\n				Mary Dimino\n			\n			\n				\n				\n				\n				\n			\n				\n				\n				\n				\n				\n				\n				\n				\n				\n				\n				In addition to being a Ladies of Laughter Competition Finalist at Caesars Atlantic City Casino\, Mary Dimino is a MAC Award winner for Best Female Comedian\, presented by Manhattan Association of Cabarets & Clubs in 2010. Dimino has performed live audience warm-up\, and as a guest and writer for Comedy Central and ABC. She was Graham Norton’s studio warm-up comedian for his talk show The Graham Norton Effect\, which aired on Comedy Central. Dimino has been the awards host and comedian for the Northeast Film Festival for five years running\, with her co-hosts including Vincent Pastorefrom The Sopranos\, Fatima Ptacek from Dora the Explorer\, and David Harris from The Warriors.Her stand-up has been seen on Comedy Central\, WNBC-DT2’s All Night with Joey Reynolds\, Canada’s Better Living Television\, and interstitials for AMC\, FOX and PBS. \n			\n			\n				\n				\n				\n				\n				\n				\n				\n				\n				\n				\n				\n			\n			\n				\n				\n				\n				\n			\n				\n				\n			\n				\n				\n				\n				\n				\n				\n				\n				\n				\n				\n				\n				\n				\n				\n				\n				\n				\n				Talia Reese\n			\n			\n				\n				\n				\n				\n			\n				\n				\n				\n				\n				\n				\n				\n				\n				\n				\n				Talia performs regularly at the hottest comedy clubs in NYC. The New York Post featured Talia as a “Hot Ticket” in a full-page article about her life and comedy. Additionally\, Talia has been written about in The Wall Street Journal and The Jerusalem Post\, most recently (“NY Jewish Comics Laugh Through The Pandemic”). She is a regular contributor on Sirius XM and Cindy Adams’ Page Six column quotes Talia’s jokes often. \n			\n			\n				\n				\n				\n				\n				\n				\n				\n				\n				\n				\n				\n			\n			\n				\n				\n				\n				\n			\n				\n				\n			\n				\n				\n				\n				\n				\n				\n				\n				\n				\n				\n				\n				\n				\n				\n				\n				\n				\n				Regina DeCicco\n			\n			\n				\n				\n				\n				\n			\n				\n				\n				\n				\n				\n				\n				\n				\n				\n				\n				You can hear Regina long before you see her\, so this stand-up comic is always easy to find! Take a little time to enjoy “The View” on ABC\, because Regina is there every day warming up the audience and having fun with the ladies and the amazing crew – it really is a party!. \nA favorite host at Gotham Comedy Club\, Regina is thrilled to have a homebase in NYC\, and she is often asked to participate in benefit shows for organizations like Gilda’s Club and Achilles International. You can sometimes hear Regina on SiriusXM\, because she is a guest contributor to The Howard Stern Show. \n			\n			\n				\n				\n				\n				\n				\n				\n				\n				\n				\n				\n				\n			\n			\n				\n				\n				\n				\n			\n				\n				\n			\n				\n				\n				\n				\n				\n				\n				\n				\n				\n				\n				\n				\n				\n				\n				\n				\n				\n				Patty Rosborough\n			\n			\n				\n				\n				\n				\n			\n				\n				\n				\n				\n				\n				\n				\n				\n				\n				\n				Patty is a top New York City comedian with a long list of credits including headlining at the Montreal Just for Laughs Festival\, the BBC’s “The World Stands Up”\, VH1\, Showtime\, and co-hosting Comedy Central’s “Short Attention Span Theater” with Jon Stewart.  You can follow her breathless\, frenetic\, and shamelessly uninhibited performances through every major club throughout the country. \n			\n			\n				\n				\n				\n				\n				\n				\n				\n				\n				\n				\n				\n			\n			\n				\n				\n				\n				\n			\n				\n				\n			\n				\n				\n				\n				\n				\n				\n				\n				\n				\n				\n				\n				\n				\n				Purchase Tickets | $35/$45\n			\n				\n				\n				\n				\n				\n“Matt Schofield is widely considered one of the best blues guitar players walking the planet…” – Kevin Klein\, medium.com
URL:https://emelin.org/event/ladies-of-laughter-old/
LOCATION:NY
CATEGORIES:Comedy
ATTACH;FMTTYPE=image/jpeg:https://emelin.org/wp-content/uploads/LadiesLaughter_2022_1200.jpg
END:VEVENT
END:VCALENDAR