BEGIN:VCALENDAR
VERSION:2.0
PRODID:-//Emelin Theatre - ECPv6.15.20//NONSGML v1.0//EN
CALSCALE:GREGORIAN
METHOD:PUBLISH
X-WR-CALNAME:Emelin Theatre
X-ORIGINAL-URL:https://emelin.org
X-WR-CALDESC:Events for Emelin Theatre
REFRESH-INTERVAL;VALUE=DURATION:PT1H
X-Robots-Tag:noindex
X-PUBLISHED-TTL:PT1H
BEGIN:VTIMEZONE
TZID:America/New_York
BEGIN:DAYLIGHT
TZOFFSETFROM:-0500
TZOFFSETTO:-0400
TZNAME:EDT
DTSTART:20250309T070000
END:DAYLIGHT
BEGIN:STANDARD
TZOFFSETFROM:-0400
TZOFFSETTO:-0500
TZNAME:EST
DTSTART:20251102T060000
END:STANDARD
BEGIN:DAYLIGHT
TZOFFSETFROM:-0500
TZOFFSETTO:-0400
TZNAME:EDT
DTSTART:20260308T070000
END:DAYLIGHT
BEGIN:STANDARD
TZOFFSETFROM:-0400
TZOFFSETTO:-0500
TZNAME:EST
DTSTART:20261101T060000
END:STANDARD
BEGIN:DAYLIGHT
TZOFFSETFROM:-0500
TZOFFSETTO:-0400
TZNAME:EDT
DTSTART:20270314T070000
END:DAYLIGHT
BEGIN:STANDARD
TZOFFSETFROM:-0400
TZOFFSETTO:-0500
TZNAME:EST
DTSTART:20271107T060000
END:STANDARD
END:VTIMEZONE
BEGIN:VEVENT
DTSTART;TZID=America/New_York:20260613T200000
DTEND;TZID=America/New_York:20260613T220000
DTSTAMP:20260420T170733
CREATED:20260202T214312Z
LAST-MODIFIED:20260420T185528Z
UID:10000695-1781380800-1781388000@emelin.org
SUMMARY:Completely Unchained - The #1 Van Halen Tribute Band
DESCRIPTION:Low Ticket Alert\n			\n				\n				\n				\n				\n				Completely Unchained is the quintessential live Van Halen experience\, capturing the raw energy and spirit of the legendary rock group. For any fan of Van Halen\, attending a Completely Unchained show is an absolute must. \nTheir setlists include all the classics\, from “Jump” and “Panama” to “Ain’t Talkin’ ‘Bout Love” and “Hot for Teacher\,” as well as deep cuts that true fans will appreciate. Each song is performed with the same intensity and passion that Van Halen brought to their live shows\, making every concert an unforgettable experience. \nGene Henriksen brings David Lee Roth‘s iconic stage presence to life. His powerful vocals\, dynamic energy\, and charismatic personality make every performance electrifying. \nJake Miller on guitar channels the virtuosity and creativity of Eddie Van Halen. His mastery of the guitar is evident in every riff and solo\, replicating Eddie’s innovative techniques and signature sound with incredible precision.  \nClint Ettore on bass holds down the low end with the same groove and intensity that made Michael Anthony‘s playing so essential to Van Halen’s sound. \nRonnie Sciascia on the drums brings the thunderous beats and complex rhythms of Alex Van Halen to the stage. 
URL:https://emelin.org/event/completely-unchained/
LOCATION:Emelin Theatre\, 153 Library Lane\, Mamaroneck\, NY\, 10543\, United States
CATEGORIES:Featured,Rock
ATTACH;FMTTYPE=image/jpeg:https://emelin.org/wp-content/uploads/1200x600_Completely-Unchained-Photo-2_web-banner.jpg
END:VEVENT
BEGIN:VEVENT
DTSTART;TZID=America/New_York:20260722T193000
DTEND;TZID=America/New_York:20260722T213000
DTSTAMP:20260420T170733
CREATED:20260302T211439Z
LAST-MODIFIED:20260420T203357Z
UID:10000698-1784748600-1784755800@emelin.org
SUMMARY:AM Gold Yacht Rock
DESCRIPTION:Drop anchor and let the good times flow — AM Gold Yacht Rock is setting sail with the smoothest decade in pop history. This NYC-based tribute band specializes in the adult-contemporary hits of the late 1970s through the mid-1980s\, the era now celebrated worldwide as Yacht Rock\, and they’ve got every silky hook\, lush harmony\, and sun-drenched groove charted and ready to go. \nExpect an evening of #1 hits from: \n\nHall & Oates\nMichael McDonald\nToto\nChristopher Cross\nSteely Dan\nKenny Loggins\nLionel Richie\n…and more\n\nPlus the era’s beloved one-hit wonders: Brandy\, Escape (The Piña Colada Song)\, Dancing in the Moonlight\, and a boatload of others. \nAll aboard for a perfect summer night out for all ages.
URL:https://emelin.org/event/am-gold-yacht-rock/
LOCATION:Emelin Theatre\, 153 Library Lane\, Mamaroneck\, NY\, 10543\, United States
CATEGORIES:Featured,Summer Series,Rock
ATTACH;FMTTYPE=image/png:https://emelin.org/wp-content/uploads/1200x600_AM-GOLD-YACHT-ROCK-BOAT_banner.png
END:VEVENT
BEGIN:VEVENT
DTSTART;TZID=America/New_York:20260806T193000
DTEND;TZID=America/New_York:20260806T213000
DTSTAMP:20260420T170733
CREATED:20260408T194325Z
LAST-MODIFIED:20260420T203355Z
UID:10000716-1786044600-1786051800@emelin.org
SUMMARY:The Brit Pack
DESCRIPTION:If you love classic rock\, The Brit Pack delivers a powerhouse night of the music that defined generations. From the anthemic swagger of Led Zeppelin and The Rolling Stones to the theatrical brilliance of Queen and the cool edge of David Bowie\, this is a high-energy celebration of the greatest British rock ever recorded. \nWhat sets The Brit Pack apart is authenticity. Formed by British-born session musicians now based in the U.S.\, the band brings both musical precision and cultural roots to every performance. Their shows aren’t just a setlist of hits—they’re a full-bodied tribute to the sound\, spirit\, and evolution of British rock. \nThe Brit Pack’s repertoire spans decades\, covering everything from the iconic classics of the 1960s and ’70s to modern favorites from artists like Oasis and Coldplay. Each song is delivered with the energy\, style\, and reverence that made these tracks timeless in the first place. \nWith a sound that’s both faithful and electrifying\, The Brit Pack proves that great music never gets old. For fans of British rock\, this is a night packed with hits\, nostalgia\, and undeniable energy.
URL:https://emelin.org/event/the-brit-pack/
LOCATION:Emelin Theatre\, 153 Library Lane\, Mamaroneck\, NY\, 10543\, United States
CATEGORIES:Featured,Music,Summer Series,Rock
ATTACH;FMTTYPE=image/png:https://emelin.org/wp-content/uploads/1200x600_brit_pack_Banner-1-Center-logo.png
END:VEVENT
END:VCALENDAR