BEGIN:VCALENDAR
VERSION:2.0
PRODID:-//Emelin Theatre - ECPv6.15.20//NONSGML v1.0//EN
CALSCALE:GREGORIAN
METHOD:PUBLISH
X-WR-CALNAME:Emelin Theatre
X-ORIGINAL-URL:https://emelin.org
X-WR-CALDESC:Events for Emelin Theatre
REFRESH-INTERVAL;VALUE=DURATION:PT1H
X-Robots-Tag:noindex
X-PUBLISHED-TTL:PT1H
BEGIN:VTIMEZONE
TZID:America/New_York
BEGIN:DAYLIGHT
TZOFFSETFROM:-0500
TZOFFSETTO:-0400
TZNAME:EDT
DTSTART:20250309T070000
END:DAYLIGHT
BEGIN:STANDARD
TZOFFSETFROM:-0400
TZOFFSETTO:-0500
TZNAME:EST
DTSTART:20251102T060000
END:STANDARD
BEGIN:DAYLIGHT
TZOFFSETFROM:-0500
TZOFFSETTO:-0400
TZNAME:EDT
DTSTART:20260308T070000
END:DAYLIGHT
BEGIN:STANDARD
TZOFFSETFROM:-0400
TZOFFSETTO:-0500
TZNAME:EST
DTSTART:20261101T060000
END:STANDARD
BEGIN:DAYLIGHT
TZOFFSETFROM:-0500
TZOFFSETTO:-0400
TZNAME:EDT
DTSTART:20270314T070000
END:DAYLIGHT
BEGIN:STANDARD
TZOFFSETFROM:-0400
TZOFFSETTO:-0500
TZNAME:EST
DTSTART:20271107T060000
END:STANDARD
END:VTIMEZONE
BEGIN:VEVENT
DTSTART;TZID=America/New_York:20260424T200000
DTEND;TZID=America/New_York:20260424T220000
DTSTAMP:20260420T165703
CREATED:20250718T185148Z
LAST-MODIFIED:20260420T185604Z
UID:10000633-1777060800-1777068000@emelin.org
SUMMARY:Ann Hampton Callaway
DESCRIPTION:Low Ticket Alert\n			\n				\n				\n				\n				\n				\n				\n					“Ann Hampton Callaway doesn’t just sing a song—she inhabits it with soul\, nuance\, and unmatched elegance.” \n					\n					 \n				\n			\n				\n				\n				\n				\n				This extraordinary show draws from the music that shaped Tony-nominated\, Ann Hampton Callaway’s songwriting voice\, featuring classics inspired by Carole King\, Joni Mitchell\, James Taylor\, Paul Simon\, and more. A recent inductee into the Women Songwriters Hall of Fame\, Ann also shares songs from her acclaimed album Finding Beauty: Originals Vol. 1. \nAudiences can expect beloved favorites like Streisand’s “At the Same Time\,” along with powerful songs co-written with Oscar winner Alan Bergman\, GRAMMY winner Melissa Manchester\, and GRAMMY nominee Amanda McBroom. The evening traces the arc of Ann’s musical inspiration through rousing showstoppers and exquisite ballads alike. \nFinding Beauty: Originals Vol. 1 debuted at #1 on the Billboard Jazz Charts. Ann is joined by GRAMMY winner Billy Stritch on piano\, Tim Horner on drums\, and Martin Wind on bass.
URL:https://emelin.org/event/ann-hampton-callaway/
LOCATION:Emelin Theatre\, 153 Library Lane\, Mamaroneck\, NY\, 10543\, United States
CATEGORIES:Broadway,Jazz
ATTACH;FMTTYPE=image/jpeg:https://emelin.org/wp-content/uploads/1200x600_ann_hampton_callaway_2_banner.jpg
ORGANIZER;CN="Emelin":MAILTO:orgevent@gmail.com
END:VEVENT
END:VCALENDAR