BEGIN:VCALENDAR
VERSION:2.0
PRODID:-//Emelin Theatre - ECPv6.15.20//NONSGML v1.0//EN
CALSCALE:GREGORIAN
METHOD:PUBLISH
X-WR-CALNAME:Emelin Theatre
X-ORIGINAL-URL:https://emelin.org
X-WR-CALDESC:Events for Emelin Theatre
REFRESH-INTERVAL;VALUE=DURATION:PT1H
X-Robots-Tag:noindex
X-PUBLISHED-TTL:PT1H
BEGIN:VTIMEZONE
TZID:America/New_York
BEGIN:DAYLIGHT
TZOFFSETFROM:-0500
TZOFFSETTO:-0400
TZNAME:EDT
DTSTART:20220313T070000
END:DAYLIGHT
BEGIN:STANDARD
TZOFFSETFROM:-0400
TZOFFSETTO:-0500
TZNAME:EST
DTSTART:20221106T060000
END:STANDARD
BEGIN:DAYLIGHT
TZOFFSETFROM:-0500
TZOFFSETTO:-0400
TZNAME:EDT
DTSTART:20230312T070000
END:DAYLIGHT
BEGIN:STANDARD
TZOFFSETFROM:-0400
TZOFFSETTO:-0500
TZNAME:EST
DTSTART:20231105T060000
END:STANDARD
BEGIN:DAYLIGHT
TZOFFSETFROM:-0500
TZOFFSETTO:-0400
TZNAME:EDT
DTSTART:20240310T070000
END:DAYLIGHT
BEGIN:STANDARD
TZOFFSETFROM:-0400
TZOFFSETTO:-0500
TZNAME:EST
DTSTART:20241103T060000
END:STANDARD
BEGIN:DAYLIGHT
TZOFFSETFROM:-0500
TZOFFSETTO:-0400
TZNAME:EDT
DTSTART:20250309T070000
END:DAYLIGHT
BEGIN:STANDARD
TZOFFSETFROM:-0400
TZOFFSETTO:-0500
TZNAME:EST
DTSTART:20251102T060000
END:STANDARD
BEGIN:DAYLIGHT
TZOFFSETFROM:-0500
TZOFFSETTO:-0400
TZNAME:EDT
DTSTART:20260308T070000
END:DAYLIGHT
BEGIN:STANDARD
TZOFFSETFROM:-0400
TZOFFSETTO:-0500
TZNAME:EST
DTSTART:20261101T060000
END:STANDARD
BEGIN:DAYLIGHT
TZOFFSETFROM:-0500
TZOFFSETTO:-0400
TZNAME:EDT
DTSTART:20270314T070000
END:DAYLIGHT
BEGIN:STANDARD
TZOFFSETFROM:-0400
TZOFFSETTO:-0500
TZNAME:EST
DTSTART:20271107T060000
END:STANDARD
END:VTIMEZONE
BEGIN:VEVENT
DTSTART;TZID=America/New_York:20260322T160000
DTEND;TZID=America/New_York:20260322T180000
DTSTAMP:20260420T184636
CREATED:20251103T212445Z
LAST-MODIFIED:20260319T193322Z
UID:10000668-1774195200-1774202400@emelin.org
SUMMARY:Melissa Errico: Sondheim in the City
DESCRIPTION:Low Ticket Alert\n			\n				\n				\n				\n				\n				Melissa ErricoSondheim in the City\n			\n				\n				\n				\n				\n				Sunday\, March 22\, 2026 @ 4pm\n			\n				BUY TICKETS | $59 - $71\n			\n			\n				\n				\n				\n				\n			\n				\n				\n			\n				\n				\n				\n				\n				\n				\n				\n				\n				\n				\n				\n				\n				\n				\n				\n				\n				\n				\n				\n					“Any chance to hear Melissa Errico sing is a chance not to be missed.” — The New York Times\n					\n					 \n				\n			\n				\n				\n				\n				\n				\n			\n				\n				\n				\n				\n				Tony Award nominee Melissa Errico—hailed by The New Yorker as “the finest interpreter of Sondheim working in America today”—celebrates the music\, legacy\, and 96th birthday of Stephen Sondheim in her stunning new concert\, Sondheim in the City. \nMelissa revisits the master composer’s world with swing-infused renditions of beloved classics like Send in the Clowns and Good Thing Going\, alongside hidden gems like Dawn and Nice Town\, But… while covering nearly every Sondheim musical\, including Into the Woods\, A Little Night Music\, Company\, and Sweeney Todd. \nThis is “a rare chance to hear a true Broadway superstar at the peak of her powers” (London Theatre Weekly)\, accompanied by a jazz ensemble featuring acclaimed jazz pianist Tedd Firth. \nLondon critics called her concert hall debut “the performance of her life”; others praised it as “magical” (CNN)\, “gorgeous!” (Newsweek)\, “astonishing” (Shenton Stage)\, and “dazzling\, sung with warmth\, insight\, and grace” (BroadwayWorld). \nDon’t miss this rare opportunity to experience one of Broadway’s most luminous voices in an evening “of sublime musical pleasure and treasures” (Shenton Stage). \n			\n				\n				\n				\n				\n				  \n\n			\n			\n				\n				\n				\n				\n			\n				\n				\n				\n				\n				\n				\n				BUY TICKETS | $59 - $71
URL:https://emelin.org/event/melissa-errico-sondheim-in-the-city/
LOCATION:Emelin Theatre\, 153 Library Lane\, Mamaroneck\, NY\, 10543\, United States
CATEGORIES:Broadway
ATTACH;FMTTYPE=image/jpeg:https://emelin.org/wp-content/uploads/1200x600_Melissa-Errico_banner-1.jpg
END:VEVENT
BEGIN:VEVENT
DTSTART;TZID=America/New_York:20260312T190000
DTEND;TZID=America/New_York:20260312T210000
DTSTAMP:20260420T184636
CREATED:20260203T210045Z
LAST-MODIFIED:20260205T201337Z
UID:10000696-1773342000-1773349200@emelin.org
SUMMARY:A Big Bright Beautiful Benefit for the Artistree Community Theater
DESCRIPTION:A Big Bright Beautiful Benefit for the Artistree Community Theater\nThursday\, March 12\, 2026 @ 7:00pm\n			\n			\n				\n				\n				\n				\n			\n				\n				\n				\n				\n				\n				\n				PURCHASE TICKETS | $56 - $131\n			\n			\n				\n				\n				\n				\n			\n				\n				\n				\n				\n				\n				\n				\n				\n				\n				\n				Join us for a Benefit Concert to support the Artistree Community Theater’s intergenerational summer musical\, Shrek! All donations are tax deductible. \n7:00 PM-8:00 PM: Wine\, snacks and silent auction in the Library Community Room8:00 PM–Concert in the Emelin Theatre
URL:https://emelin.org/event/artistree-community-theater-benefit/
LOCATION:Emelin Theatre\, 153 Library Lane\, Mamaroneck\, NY\, 10543\, United States
CATEGORIES:Upcoming Events Inclusion,Visiting Presenters,Broadway,Visiting Presenter
ATTACH;FMTTYPE=image/jpeg:https://emelin.org/wp-content/uploads/Benefit1200600.jpg
END:VEVENT
BEGIN:VEVENT
DTSTART;TZID=America/New_York:20260131T200000
DTEND;TZID=America/New_York:20260131T220000
DTSTAMP:20260420T184636
CREATED:20251006T175914Z
LAST-MODIFIED:20260109T144215Z
UID:10000658-1769889600-1769896800@emelin.org
SUMMARY:Kerry Butler: Breaking Broadway
DESCRIPTION:Low Ticket Alert\n			\n				\n				\n				\n				\n				Kerry Butler\nBreaking Broadway\n			\n				\n				\n				\n				\n				Saturday\, January 31\, 2026 @ 8pm\n			\n				BUY TICKETS | $53 - $65\n			\n			\n				\n				\n				\n				\n			\n				\n				\n			\n				\n				\n				\n				\n				\n				\n				\n				\n				\n				\n				\n				\n				\n				\n				\n				\n				\n				\n				\n					“A dazzling Broadway talent with impeccable comedic timing and a voice that soars.” — The New York Times\n					\n					 \n				\n			\n				\n				\n				\n				\n				Tony-nominated Broadway star Kerry Butler brings her acclaimed solo show Breaking Broadway to the stage — an evening of stories and songs from her extraordinary career on and off the Great White Way. Known for her show-stopping performances in Hairspray\, Xanadu\, Mean Girls\, and Beetlejuice\, Butler shares the hilarious\, heartfelt\, and sometimes unbelievable moments behind her journey from understudy to Broadway star. \nKerry revisits highlights from her award-winning roles and fan favorites from Broadway’s most beloved musicals. With her signature warmth\, wit\, and powerhouse voice\, she gives audiences a front-row seat to the triumphs\, mishaps\, and unforgettable memories that shaped her life in theatre. \nBreaking Broadway is a joyful celebration of resilience\, artistry\, and the pure magic of musical theatre. \n			\n				\n				\n				\n				\n				\n				\n			\n			\n				\n				\n				\n				\n			\n				\n				\n				\n				\n				\n				\n				BUY TICKETS | $53 - $65
URL:https://emelin.org/event/kerry-butler-breaking-broadway/
LOCATION:Emelin Theatre\, 153 Library Lane\, Mamaroneck\, NY\, 10543\, United States
CATEGORIES:Upcoming Events Inclusion,Black Friday Sale,Broadway
ATTACH;FMTTYPE=image/jpeg:https://emelin.org/wp-content/uploads/1200x600_Kerry-Butler-Breaking-Broadway-Banner-1.jpg
END:VEVENT
BEGIN:VEVENT
DTSTART;TZID=America/New_York:20250315T200000
DTEND;TZID=America/New_York:20250315T220000
DTSTAMP:20260420T184637
CREATED:20240805T133343Z
LAST-MODIFIED:20250218T190655Z
UID:10000507-1742068800-1742076000@emelin.org
SUMMARY:Gavin Lee is Steppin' Out with Fred Astaire
DESCRIPTION:Gavin Lee \nis Steppin’ Out with Fred Astaire\n			\n				\n				\n				\n				\n				Saturday\, March 15\, 2025 @ 8PM\n			\n				BUY TICKETS | $46 - $58 (inclusive of all fees)\n			\n				\n				\n				\n				\n				\n			\n			\n				\n				\n				\n				\n			\n				\n				\n			\n				\n				\n				\n				\n				\n				\n				\n				\n				\n				\n				\n				\n				\n				\n				\n				\n				\n				Gavin Lee is Stepping’ Out With Fred Astaire \nTwo-time Tony Nominee and Drama Desk Winner Gavin Lee brings his acclaimed solo show\, Steppin’ Out With Fred Astaire\, to the Emelin Theatre. Known for his Fred Astaire roles on West End and Broadway\, Gavin\, accompanied by hits from Gershwin\, Berlin\, and Porter\, will transport you to the Golden Age of Hollywood with iconic songs and captivating stories. \nLee recently performed in Stephen Sondheim’s Old Friends with Bernadette Peters in the UK. He also starred as Lumière in Disney’s Beauty and the Beast at the London Palladium and originated the role of Squidward in The SpongeBob Musical on Broadway. His notable roles include Thénadier in Les Miserables and the Grinch in How the Grinch Stole Christmas at Madison Square Garden. Lee also starred as Bert in the West End and Broadway productions of Mary Poppins\, earning both Drama Desk and Theatre World Awards\, as well as a Tony nomination. \nGavin Lee has performed his solo concerts in New York\, Chicago\, and London. His TV credits include “Law and Order: SUV\,” “The Good Wife\,” “Little America\,” and “White Collar.” Select US/UK theatre credits include The 39 Steps\, Showboat\, Crazy For You\, Peggy Sue Got Married\, Me and My Girl\, Over My Shoulder\, Oklahoma!\, Contact and Singin’ In The Rain. \n  \n			\n			\n				\n				\n				\n				\n			\n				\n				\n				\n				\n				\n				\n				BUY TICKETS | $46 - $58 (inclusive of all fees)
URL:https://emelin.org/event/gavin-lee-is-steppin-out-with-fred-astaire/
LOCATION:Emelin Theatre\, 153 Library Lane\, Mamaroneck\, NY\, 10543\, United States
CATEGORIES:Featured,Broadway
ATTACH;FMTTYPE=image/png:https://emelin.org/wp-content/uploads/1200x600_Steppin-Out-Page-Banner-1943-x-743-px.png
END:VEVENT
BEGIN:VEVENT
DTSTART;TZID=America/New_York:20241123T200000
DTEND;TZID=America/New_York:20241123T220000
DTSTAMP:20260420T184637
CREATED:20240805T140804Z
LAST-MODIFIED:20240806T141852Z
UID:10000492-1732392000-1732399200@emelin.org
SUMMARY:L'Chaim
DESCRIPTION:L’Chaim\nA Toast to the Jewish Legacy of Broadway\n			\n				\n				\n				\n				\n				Saturday\, November 23\, 2024 @ 8PM\n			\n				BUY TICKETS | $47 - $59 (inclusive of all fees)\n			\n				\n				\n				\n				\n				\n			\n			\n				\n				\n				\n				\n			\n				\n				\n			\n				\n				\n				\n				\n				\n				\n				\n				\n				\n				\n				\n				\n				\n				\n				\n				\n				\n				Discover L’Chaim: A Musical Tribute to Jewish Legacy on Broadway \nFrom the stages of the lower east side to the bright lights of Broadway\, L’Chaim is a musical journey that pays tribute to the Jewish legacy of musical theatre by exploring and celebrating the unique role of Jewish composers and lyricists. \nRooted in history\, heritage\, and tradition\, four Jewish performers bring to life the most iconic songs from the stage of past and present and the historical stories that go with them. \nFeaturing favorite selections form musicals such as Fiddler on the Roof\, South Pacific\, West Side Story\, The Sound of Music\, The Wizard of Oz\, Guys & Dolls\, Funny Girl\, The Little Shop of Horrors\, Cabaret\, On the Town\, Company\, Les Miserables\, and more!  \n			\n			\n				\n				\n				\n				\n			\n				\n				\n				\n				\n				\n				\n				\n				\n				\n				\n				\n				\n			\n				BUY TICKETS | $47 - $59 (inclusive of all fees)
URL:https://emelin.org/event/lchaim/
LOCATION:Emelin Theatre\, 153 Library Lane\, Mamaroneck\, NY\, 10543\, United States
CATEGORIES:Featured,Music,Broadway
ATTACH;FMTTYPE=image/jpeg:https://emelin.org/wp-content/uploads/1200x600_LChaim-Banner_2426-x-1365.jpg
END:VEVENT
BEGIN:VEVENT
DTSTART;TZID=America/New_York:20240601T200000
DTEND;TZID=America/New_York:20240601T200000
DTSTAMP:20260420T184637
CREATED:20240228T190042Z
LAST-MODIFIED:20240522T142841Z
UID:10000459-1717272000-1717272000@emelin.org
SUMMARY:CHRIS MANN
DESCRIPTION:CHRIS MANN\nFrom Gershwin to Gaga \nCelebrating the Tony Bennett Songbook\n\n			\n				\n				\n				\n				\n				SATURDAY\, JUNE 1\, 2024 @ 8pm\n \n			\n				BUY TICKETS | $47 - $57 (plus applicable fees)\n			\n			\n				\n				\n				\n				\n			\n				\n				\n			\n				\n				\n				\n				\n				\n				\n				\n				\n				\n				\n				\n				\n				\n				\n				\n				\n				\n				\n			\n				\n				\n				\n				\n				Join Chris Mann for a intimate evening celebrating the best of jazz\, pop\, parody and Broadway in “From Gershwin to Gaga.” The viral parody sensation and star of NBC’s The Voice and The Phantom of the Opera delivers intoxicating arrangements of classics that have critics hailing him as “one of the best male vocalists in the world” with a “not to be missed” evening of entertainment. \nOne of the most sought-after talents on stage\, music and television\, Mann has shared the stage with Broadway legends and Tony Award winners including Norm Lewis\, Idina Menzel\, Heather Headley\, Megan Hilty\, Chita Rivera\, Lea Michelle\, Hugh Panaro\, Katharine McPhee\, Shoshana Bean and more. He has performed with the National Symphony for President Barack Obama\, headlined at The John F. Kennedy Center in Washington\, D.C. and at New York City’s famed Christmas in Rockefeller Center Concert and starred in his own symphony tour across the country. He has performed on Ellen\, The Today Show\, Conan\, and The Tonight Show with Jay Leno\, The Late Late Show with James Cordon and Christmas in Washington. \nA consummate entertainer\, Chris Mann’s hysterical musical parody videos dominated the internet in 2020. With over 300 million views\, Mann’s self-shot videos provided much-needed laughs with his smart-witted lyrics\, hilarious facial expressions and world-class vocals. Chris’ parodies have been featured on news outlets all over the world including CNN\, NPR\, Today Show\, BBC News\, Vice\, Funny or Die\, The LA Times\, The New Yorker\, and were featured in the “Top 20 of 2020” and “Best of 2021” on NBC’s New Year’s Special\, on which Chris was a commentator and also performed. \n			\n			\n				\n				\n				\n				\n				\n				\n				\n				\n				\n				\n				\n			\n				\n				\n				\n				\n				\n				\n			\n				\n				\n				\n				\n				\n				\n			\n				\n				\n				\n				\n				“Visceral.” – Rolling Stone \n“A bona fide breakout star!” – Huffington Post \n“My new favorite male voice on the planet!” – Today Show\, Kathie Lee & Hoda \n			\n			\n				\n				\n				\n				\n			\n				\n				\n				\n				\n				\n				\n				BUY TICKETS | $47 - $57 (plus applicable fees)
URL:https://emelin.org/event/chris-mann/
LOCATION:Emelin Theatre\, 153 Library Lane\, Mamaroneck\, NY\, 10543\, United States
CATEGORIES:Broadway
ATTACH;FMTTYPE=image/png:https://emelin.org/wp-content/uploads/1200x600_banner_chris-mann_emelin-theatre_mamaroneck_westchester_ny_sat-june-1.png
END:VEVENT
BEGIN:VEVENT
DTSTART;TZID=America/New_York:20230609T200000
DTEND;TZID=America/New_York:20230609T220000
DTSTAMP:20260420T184637
CREATED:20230224T175637Z
LAST-MODIFIED:20230518T183306Z
UID:10000348-1686340800-1686348000@emelin.org
SUMMARY:Broadway's Santino Fontana
DESCRIPTION:TONY AWARD WINNER\nSantino Fontana\nA BROADWAY ROMANCE\nWith Jessica Fontana and Ted Sperling\n			\n				\n				\n				\n				\n				Friday\, June 9\, 2023 @ 8pm\nPreviously scheduled for Fri\, May 19 \n			\n				Purchase Tickets | $42 - $62  (plus applicable fees)\n			\n			\n				\n				\n				\n				\n			\n				\n				\n			\n				\n				\n				\n				\n				\n				\n				\n				\n				\n				\n				\n				\n				\n				\n				\n				\n				\n				Join Broadway’s leading man Santino Fontana (Tony Award for Tootsie\, famous for voicing Prince Hans in Disney’s Frozen) for an intimate conversation in song with Tony Award winning Music Director and Orchestrator Ted Sperling (The Light in the Piazza) and Jessica Fontana (Broadway’s Cinderella\, Baby It’s You). Treat yourself to an evening of pure entertainment filled with Broadway hits\, American Standard favorites and fun\, with three of Broadway’s brightest lights. \n			\n			\n				\n				\n				\n				\n				\n				\n				\n				\n				\n				\n				\n			\n			\n				\n				\n				\n				\n			\n				\n				\n				\n				\n				\n				\n				\n				\n				\n				\n				\n			\n			\n				\n				\n				\n				\n				\n				\n				\n				\n				\n				JESSICA FONTANA\nJessica Fontana has starred on Broadway in the title role of Rodgers and Hammerstein’s Cinderella\, Baby It’s You and Pipe Dream in New York City Center’s Encore series. Off-Broadway\, she starred as Lady Larken in Once Upon a Mattress with the Transport Group. She has starred in various productions around the country and performed at Carnegie Hall\, Lincoln Center\, Birdland\, Bucks County Playhouse\, Caramoor\, Feinstein’s/54 Below\, and Jones Hall with the Houston Symphony. \n			\n				\n				\n				\n				\n				SANTINO FONTANA\nSantino Fontana received the 2019 Tony Award for his tour de force dual performance in Tootsie. He’s also received two Drama Desk Awards\, an Outer Critics Circle Award\, Lortel Award\, Obie Award\, and Clarence Derwent Award in a mix of straight plays and musicals. Theater credits include Hello Dolly\, Act One\, Cinderella\, and The Importance of Being Earnest. He is perhaps best known for lending his voice to Prince Hans in Disney’s Frozen. An interpreter of the American Songbook\, he has sung with the New York Philharmonic\, NY Pops\, Westchester Philharmonic\, Mormon Tabernacle Choir\, Sesame Street Muppets\, Phoenix Symphony\, and at Carnegie Hall\, Lincoln Center\, The Kennedy Center\, and more. \n			\n			\n				\n				\n				\n				\n			\n				\n				\n				\n				\n				\n				\n				\n				\n				\n				\n				\n			\n			\n				\n				\n				\n				\n				\n				\n				\n				\n				\n				Ted Sperling\nTed Sperling is a multi-faceted artist; director\, music director\, conductor\, orchestrator\, singer\, pianist\, violinist and violist. He is the Artistic Director of MasterVoices and Music Director of the recent Broadway productions of My Fair Lady\, Fiddler on the Roof and The King and I\, all currently touring nationally and internationally. He has directed the premiere productions of The Other Josh Cohen\, Red Eye of Love\, Striking 12 and See What I Wanna See\, all off-Broadway. A Tony Award winner for his orchestrations of The Light in the Piazza\, Mr. Sperling is known for his work across many genres\, including opera\, oratorio\, musical theater\, symphony and pops. \n			\n			\n				\n				\n				\n				\n			\n				\n				\n			\n				\n				\n				\n				\n				\n				\n				\n				\n				\n				\n				\n				\n				\n				Purchase Tickets | $42 - $62  (plus applicable fees)\n			\n				\n				\n				\n				\n				\n“Matt Schofield is widely considered one of the best blues guitar players walking the planet…” – Kevin Klein\, medium.com \n\n\n			\n			\n				\n				\n				\n				\n			\n				\n				\n				\n				\n				\n				\n				\n				\n				\n				\n				Upcoming Events
URL:https://emelin.org/event/broadway-romance/
LOCATION:Emelin Theatre\, 153 Library Lane\, Mamaroneck\, NY\, 10543\, United States
CATEGORIES:Broadway
ATTACH;FMTTYPE=image/jpeg:https://emelin.org/wp-content/uploads/Santino_Fontana_Banner1.jpeg
END:VEVENT
BEGIN:VEVENT
DTSTART;TZID=America/New_York:20230504T200000
DTEND;TZID=America/New_York:20230504T200000
DTSTAMP:20260420T184637
CREATED:20230203T192322Z
LAST-MODIFIED:20230508T042311Z
UID:10000344-1683230400-1683230400@emelin.org
SUMMARY:Isaac Mizrahi
DESCRIPTION:Isaac Mizrahi\n			\n				\n				\n				\n				\n				Thursday\, May 4 @ 8pm\nSpecial savings now through may 4 | tickets starting at $50\n			\n				Purchase Tickets | $50 - $72 (plus applicable fees)\n			\n			\n				\n				\n				\n				\n			\n				\n				\n			\n				\n				\n				\n				\n				\n				\n				\n				\n				\n				\n				\n				\n				\n				\n				\n				\n				\n				\n“From the moment he took the stage with his incredibly talented six-piece jazz band\, Mizrahi was in charge… singing standards and pop songs\, from Stephen Sondheim to Blondie and Cole Porter to Madonna\, he makes every moment sparkle. In between songs\, he muses on everything from politics\, to dieting to his latest Instagram obsession. – The Hollywood Times \n\nTreat yourself to an evening of unbridled joy at this one-of-a-kind cabaret show and experience how Mr. Mizrahi “turns a performance into a private party\, with witty\, engaging banter that’s at once topical and timeless\, political and personal. There’s a lot more that could be said\, but to quote Mr. Mizrahi: “Brevity is the soul of wit—and lingerie.” (New York Stage Review) \nFashion designer\, broadway star and performer extraordinaire\, Isaac Mizrahi has worked extensively in the entertainment industry for over 30 years. Most recently seen as Amos Hart in the Broadway production of Chicago\, he heads to the Emelin after his annual (triumphant) residency at Café Carlyle in New York City. Isaac also performs at such venues as Joe’s Pub\, The Regency Ballroom and several City Winery locations nationwide. He is the subject and co-creator of Unzipped\, a documentary following the making of his Fall 1994 collection which received an award at the Sundance Film Festival. He hosted his own television talk show “The Isaac Mizrahi Show” for seven years\, has written three books\, and has made countless appearances in movies and on television. He served as a judge on “Project Runway: All-Stars” for the series’ entire seven-season run. \n\n“…one of the most enjoyable singer-entertainers of the current moment…his comic timing is terrific\, and\, even better\, his stage personality is even larger than the oversized chiffon gardenia in his lapel.”– New York Stage Review\, Isaa Mizrahi\, Back at Café Carlyle \n\n			\n			\n				\n				\n				\n				\n			\n				\n				\n			\n				\n				\n				\n				\n				\n				\n				\n				\n				\n				\n				\n				\n				\n				Purchase Tickets |$50 - $72 (plus applicable fees)\n			\n				\n				\n				\n				\n				\n“Matt Schofield is widely considered one of the best blues guitar players walking the planet…” – Kevin Klein\, medium.com \n\n\n			\n			\n				\n				\n				\n				\n			\n				\n				\n				\n				\n				\n				\n				\n				\n				\n				\n				Upcoming Events
URL:https://emelin.org/event/isaac-mizrahi/
LOCATION:Emelin Theatre\, 153 Library Lane\, Mamaroneck\, NY\, 10543\, United States
CATEGORIES:Broadway
ATTACH;FMTTYPE=image/jpeg:https://emelin.org/wp-content/uploads/Mizrahi_1200.jpg
END:VEVENT
BEGIN:VEVENT
DTSTART;TZID=America/New_York:20230421T200000
DTEND;TZID=America/New_York:20230421T220000
DTSTAMP:20260420T184637
CREATED:20230109T202714Z
LAST-MODIFIED:20230412T211131Z
UID:10000337-1682107200-1682114400@emelin.org
SUMMARY:Julie Benko
DESCRIPTION:Julie Benko\n			\n				\n				\n				\n				\n				Friday\, April 21 @ 8pm\n			\n				Purchase Tickets | $47 - $57 (plus applicable fees)\n			\n			\n				\n				\n				\n				\n			\n				\n				\n			\n				\n				\n				\n				\n				\n				\n				\n				\n				\n				\n				\n				\n				\n				\n				\n				\n				\n				When Julie Benko first took the stage as the standby for Fanny Brice in Funny Girl\, she could not have anticipated that she would take her bow as Broadway’s newest breakout star. Joined by her husband Jason Yeager on piano\, Julie reflects on the journey leading to her meteoric rise\, sharing songs and behind-the-scenes stories of her days understudying in Les Misérables\, Fiddler on the Roof\, Spring Awakening\, and more. From Broadway classics (“People\,” “Matchmaker”) to jazz standards (“Twisted”) to contemporary favorites (“What’s Gonna Happen\,” “Journey to the Past”)\, Standby\, Me offers an evening of spectacular vocals\, theatrical lore\, and inspiration for all the greatest stars-to-be.  \n\n“Julie Benko is the bright-eyed\, dulcet-voiced soprano who went from standby to star.” – The New York Times \n\n\n“Revelatory… The perfect Fannie Brice for our time.” – The New York Sun \n\n\n“Julie Benko’s Cosette had us shivering with delight…” – Indyweek \n\n			\n			\n				\n				\n				\n				\n				\n				\n				\n				\n				\n				\n				\n			\n				\n				\n				\n				\n				\n			\n			\n				\n				\n				\n				\n			\n				\n				\n			\n				\n				\n				\n				\n				\n				\n				\n				\n				\n				\n				\n				\n				\n				Purchase Tickets | $47 - $57 (plus applicable fees)
URL:https://emelin.org/event/julie-benko/
LOCATION:Emelin Theatre\, 153 Library Lane\, Mamaroneck\, NY\, 10543\, United States
CATEGORIES:Broadway,Jazz
ATTACH;FMTTYPE=image/jpeg:https://emelin.org/wp-content/uploads/Benko-1200.jpg
END:VEVENT
END:VCALENDAR