BEGIN:VCALENDAR
VERSION:2.0
PRODID:-//Emelin Theatre - ECPv6.15.20//NONSGML v1.0//EN
CALSCALE:GREGORIAN
METHOD:PUBLISH
X-WR-CALNAME:Emelin Theatre
X-ORIGINAL-URL:https://emelin.org
X-WR-CALDESC:Events for Emelin Theatre
REFRESH-INTERVAL;VALUE=DURATION:PT1H
X-Robots-Tag:noindex
X-PUBLISHED-TTL:PT1H
BEGIN:VTIMEZONE
TZID:America/New_York
BEGIN:DAYLIGHT
TZOFFSETFROM:-0500
TZOFFSETTO:-0400
TZNAME:EDT
DTSTART:20220313T070000
END:DAYLIGHT
BEGIN:STANDARD
TZOFFSETFROM:-0400
TZOFFSETTO:-0500
TZNAME:EST
DTSTART:20221106T060000
END:STANDARD
BEGIN:DAYLIGHT
TZOFFSETFROM:-0500
TZOFFSETTO:-0400
TZNAME:EDT
DTSTART:20230312T070000
END:DAYLIGHT
BEGIN:STANDARD
TZOFFSETFROM:-0400
TZOFFSETTO:-0500
TZNAME:EST
DTSTART:20231105T060000
END:STANDARD
BEGIN:DAYLIGHT
TZOFFSETFROM:-0500
TZOFFSETTO:-0400
TZNAME:EDT
DTSTART:20240310T070000
END:DAYLIGHT
BEGIN:STANDARD
TZOFFSETFROM:-0400
TZOFFSETTO:-0500
TZNAME:EST
DTSTART:20241103T060000
END:STANDARD
END:VTIMEZONE
BEGIN:VEVENT
DTSTART;TZID=America/New_York:20230519T190000
DTEND;TZID=America/New_York:20230519T203000
DTSTAMP:20260420T084958
CREATED:20230414T182049Z
LAST-MODIFIED:20230414T212154Z
UID:10000373-1684522800-1684528200@emelin.org
SUMMARY:ARTISTREE PRESENTS: SPRING AWAKENING - May 19th @ 7pm
DESCRIPTION:Artistree presents\nspring awakening\nThe winner of eight Tony Awards\, including Best Musical\, Spring Awakening explores the journey from adolescence to adulthood with a poignancy and passion that is illuminating and unforgettable. The landmark musical is an electrifying fusion of morality\, sexuality and rock and roll that is exhilarating audiences across the nation like no other musical in years.  Rated PG-13.  \nThis show contains mature themes and elements.  No one under the age of 12 will be admitted \n\n			\n				Fri\, May 19th @ 7pm | $30 Children/$35 Adults\n			\n				\n				\n				\n				\n				Day of show prices: $35 Children/$40 Adults
URL:https://emelin.org/event/artistree-presents-spring-awakening-may-19th-7pm/
CATEGORIES:Visiting Presenters,Visiting Presenter
ATTACH;FMTTYPE=image/svg+xml:https://emelin.org/wp-content/uploads/SPRING-AWAKENING-1.svg
END:VEVENT
BEGIN:VEVENT
DTSTART;TZID=America/New_York:20230518T190000
DTEND;TZID=America/New_York:20230518T210000
DTSTAMP:20260420T084958
CREATED:20230407T134501Z
LAST-MODIFIED:20230414T210752Z
UID:10000365-1684436400-1684443600@emelin.org
SUMMARY:ARTISTREE PRESENTS: SPRING AWAKENING - May 18th @ 7pm
DESCRIPTION:Artistree presents\nspring awakening\nTHU\, MAY 18 @ 7PM\nThe winner of eight Tony Awards\, including Best Musical\, Spring Awakening explores the journey from adolescence to adulthood with a poignancy and passion that is illuminating and unforgettable. The landmark musical is an electrifying fusion of morality\, sexuality and rock and roll that is exhilarating audiences across the nation like no other musical in years.  Rated PG-13.  \nThis show contains mature themes and elements.  No one under the age of 12 will be admitted \n \n			\n				Thu\, May 18 @ 7pm | $30 Children/$35 Adults\n			\n				\n				\n				\n				\n				Day of show prices: $35 Children/$40 Adults
URL:https://emelin.org/event/artistree-presents-spring-awakening/
CATEGORIES:Visiting Presenters,Visiting Presenter
ATTACH;FMTTYPE=image/svg+xml:https://emelin.org/wp-content/uploads/SPRING-AWAKENING-1.svg
END:VEVENT
BEGIN:VEVENT
DTSTART;TZID=America/New_York:20230513T153000
DTEND;TZID=America/New_York:20230513T163000
DTSTAMP:20260420T084958
CREATED:20230413T195339Z
LAST-MODIFIED:20230430T193630Z
UID:10000369-1683991800-1683995400@emelin.org
SUMMARY:ARTISTREE PRESENTS: ROCK OF AGES (Jeanette's Cast ) @ 3:30pm
DESCRIPTION:Artistree presents\nRock of Ages\nJEANETTE’S Cast\nSAT\, MAY 13 @ 3:30PM\nRock of Ages: Youth Edition will take you back to the time of big bands with big egos playing big guitar solos and sporting even bigger hair! This exciting musical features the hits of so many notable 80s rock bands including Night Ranger\, REO Speedwagon\, Pat Benatar\, Twisted Sister and more. \nAppropriate for ages 5 and up.  60 minutes \n\n			\n				\n				\n				\n				\n				\n				\n				\n					May 13 @ 3:30 pm | Purchase Tickets | $25 Kids/$30 Adults\n                \n                    \n                      \nMay 13 @ 3:30pm Tickets | $25 Children/$30 Adults\n                    Close\n                \n            \n				\n			\n				\n				\n				\n				\n				Day of show prices: $30 Children/$35 Adults
URL:https://emelin.org/event/artistree-presents-rock-of-ages-jeanettes-cast-330pm/
CATEGORIES:Visiting Presenters,Visiting Presenter
ATTACH;FMTTYPE=image/svg+xml:https://emelin.org/wp-content/uploads/VERONICAS-CAST-4.svg
END:VEVENT
BEGIN:VEVENT
DTSTART;TZID=America/New_York:20230513T123000
DTEND;TZID=America/New_York:20230513T133000
DTSTAMP:20260420T084958
CREATED:20230413T195113Z
LAST-MODIFIED:20230414T214740Z
UID:10000371-1683981000-1683984600@emelin.org
SUMMARY:ARTISTREE PRESENTS: Rock of Ages (Sasha’s Cast) @ 12:30pm
DESCRIPTION:Artistree presents\nRock of Ages\nSasha’S Cast\nsat\, may 13 @ 12:30pm\nRock of Ages: Youth Edition will take you back to the time of big bands with big egos playing big guitar solos and sporting even bigger hair! This exciting musical features the hits of so many notable 80s rock bands including Night Ranger\, REO Speedwagon\, Pat Benatar\, Twisted Sister and more. \nAppropriate for ages 5 and up.  60 minutes \n \n			\n				\n				\n				\n				\n				\n				\n				\n					Sat\, May 13 @ 12:30pm | Purchase Tickets | $25 Kids/$30 Adults\n                \n                    \n                      \nMay 13 @ 12:30pm Tickets | $25 Children/$30 Adults\n                    Close\n                \n            \n				\n			\n				\n				\n				\n				\n				Day of show prices: $30 Children/$35 Adults
URL:https://emelin.org/event/artistree-presents-rock-of-ages-sashas-cast-1230pm/
CATEGORIES:Visiting Presenters,Visiting Presenter
ATTACH;FMTTYPE=image/svg+xml:https://emelin.org/wp-content/uploads/VERONICAS-CAST-2.svg
END:VEVENT
BEGIN:VEVENT
DTSTART;TZID=America/New_York:20230513T100000
DTEND;TZID=America/New_York:20230513T110000
DTSTAMP:20260420T084958
CREATED:20230406T172255Z
LAST-MODIFIED:20230502T141809Z
UID:10000364-1683972000-1683975600@emelin.org
SUMMARY:ARTISTREE PRESENTS: Rock of Ages (Sasha's Cast) @ 10am
DESCRIPTION:Artistree presents\nRock of Ages\nSasha’S Cast\nSAT\, MAY 13 @ 10AM\nRock of Ages: Youth Edition will take you back to the time of big bands with big egos playing big guitar solos and sporting even bigger hair! This exciting musical features the hits of so many notable 80s rock bands including Night Ranger\, REO Speedwagon\, Pat Benatar\, Twisted Sister and more. \nAppropriate for ages 5 and up.  60 minutes \n \n			\n				Sat\, May 13 @ 10am | Purchase Tickets | $25 Kids/$30 Adults\n			\n				\n				\n				\n				\n				Day of show prices: $30 Children/$35 Adults
URL:https://emelin.org/event/artistree-presents-rock-of-ages-sashas-cast/
CATEGORIES:Visiting Presenters,Visiting Presenter
ATTACH;FMTTYPE=image/svg+xml:https://emelin.org/wp-content/uploads/VERONICAS-CAST-1.svg
END:VEVENT
BEGIN:VEVENT
DTSTART;TZID=America/New_York:20230512T190000
DTEND;TZID=America/New_York:20230512T210000
DTSTAMP:20260420T084958
CREATED:20230406T172744Z
LAST-MODIFIED:20230414T214628Z
UID:10000362-1683918000-1683925200@emelin.org
SUMMARY:ARTISTREE PRESENTS: ROCK OF AGES (Jeanette's Cast) @ 7pm
DESCRIPTION:Artistree presents\nRock of Ages\nJEANETTE’S Cast\nFRI\, MAY 12 @ 7PM\nRock of Ages: Youth Edition will take you back to the time of big bands with big egos playing big guitar solos and sporting even bigger hair! This exciting musical features the hits of so many notable 80s rock bands including Night Ranger\, REO Speedwagon\, Pat Benatar\, Twisted Sister and more. \nAppropriate for ages 5 and up.  60 minutes \n\n			\n				\n				\n				\n				\n				\n				\n				\n					Fri\, May 12 @ 7PM | Purchase Tickets | $25 Kids/$30 Adults\n                \n                    \n                      \nMay 12 @7pm Tickets | $25 Children/$30 Adults\n                    Close\n                \n            \n				\n			\n				\n				\n				\n				\n				Day of show prices: $30 Children/$35 Adults
URL:https://emelin.org/event/artistree-presents-rock-of-ages-jeanettes-cast/
CATEGORIES:Visiting Presenters,Visiting Presenter
ATTACH;FMTTYPE=image/svg+xml:https://emelin.org/wp-content/uploads/VERONICAS-CAST-4.svg
END:VEVENT
BEGIN:VEVENT
DTSTART;TZID=America/New_York:20230511T200000
DTEND;TZID=America/New_York:20230511T200000
DTSTAMP:20260420T084958
CREATED:20230413T194903Z
LAST-MODIFIED:20230414T214612Z
UID:10000370-1683835200-1683835200@emelin.org
SUMMARY:ARTISTREE PRESENTS: ROCK OF AGES (Veronica’s Cast) @ 8pm
DESCRIPTION:Artistree presents\nRock of Ages\nveronica’S Cast\nTHU\, MAY 11 @ 8PM\nRock of Ages: Youth Edition will take you back to the time of big bands with big egos playing big guitar solos and sporting even bigger hair! This exciting musical features the hits of so many notable 80s rock bands including Night Ranger\, REO Speedwagon\, Pat Benatar\, Twisted Sister and more. \nAppropriate for ages 5 and up.  60 minutes \n \n			\n				\n				\n				\n				\n				\n				\n				\n					Thu\, May 11 @ 8pm | Purchase Tickets | $25 Kids/$30 Adults\n                \n                    \n                      \nMay 11 @ 8pm Tickets | $25 Children/$30 Adults\n                    Close\n                \n            \n				\n			\n				\n				\n				\n				\n				Day of show prices: $30 Children/$35 Adults
URL:https://emelin.org/event/artistree-presents-rock-of-ages-veronicas-cast-8pm/
CATEGORIES:Visiting Presenters,Visiting Presenter
ATTACH;FMTTYPE=image/svg+xml:https://emelin.org/wp-content/uploads/VERONICAS-CAST-3.svg
END:VEVENT
BEGIN:VEVENT
DTSTART;TZID=America/New_York:20230511T180000
DTEND;TZID=America/New_York:20230511T190000
DTSTAMP:20260420T084958
CREATED:20230406T172548Z
LAST-MODIFIED:20230414T214513Z
UID:10000363-1683828000-1683831600@emelin.org
SUMMARY:ARTISTREE PRESENTS: ROCK OF AGES (Veronica's Cast) @ 6pm
DESCRIPTION:Artistree presents\nRock of Ages\nveronica’S Cast\nTHU\, MAY 11 @ 6PM\nRock of Ages: Youth Edition will take you back to the time of big bands with big egos playing big guitar solos and sporting even bigger hair! This exciting musical features the hits of so many notable 80s rock bands including Night Ranger\, REO Speedwagon\, Pat Benatar\, Twisted Sister and more. \nAppropriate for ages 5 and up.  60 minutes \n \n			\n				\n				\n				\n				\n				\n				\n				\n					Thu\, May 11 @ 6pm | Purchase Tickets | $25 Kids/$30 Adults\n                \n                    \n                      \nMay 11 @ 6pm Tickets | $25 Children/$30 Adults\n                    Close\n                \n            \n				\n			\n				\n				\n				\n				\n				Day of show prices: $30 Children/$35 Adults
URL:https://emelin.org/event/artistree-presents-rock-of-ages-veronicas-cast/
CATEGORIES:Visiting Presenters,Visiting Presenter
ATTACH;FMTTYPE=image/svg+xml:https://emelin.org/wp-content/uploads/VERONICAS-CAST-3.svg
END:VEVENT
BEGIN:VEVENT
DTSTART;TZID=America/New_York:20230429T123000
DTEND;TZID=America/New_York:20230429T133000
DTSTAMP:20260420T084958
CREATED:20230308T163908Z
LAST-MODIFIED:20230405T174500Z
UID:10000356-1682771400-1682775000@emelin.org
SUMMARY:Artistree presents The Lion King Jr. | Katie Jo's 3:30pm T/Th Cast
DESCRIPTION:Artistree presents\nThe Lion King Jr.\nKatie Jo’s 3:30 T/Th Cast\nJoin Aristree’s Elementary Casts as they present the classic story of Simba and his friends in the Pridelands as they protect and defend the great “Circle of Life.” \nAppropriate for Ages 3 and up. 60 minutes. \n			\n				Sat\, Apr 29 @ 12:30pm | $25 Children/$30 Adults\n			\n				\n				\n				\n				\n				Day of show prices: $30 Children/$35 Adults \n			\n			\n				\n				\n				\n				\n			\n				\n				\n				\n				\n				\n				\n				\n				\n				\n				\n				Upcoming Events
URL:https://emelin.org/event/artistree-apr29-1230pm/
LOCATION:Emelin Theatre\, 153 Library Lane\, Mamaroneck\, NY\, 10543\, United States
CATEGORIES:Artistree,Visiting Presenters,Visiting Presenter
ATTACH;FMTTYPE=image/jpeg:https://emelin.org/wp-content/uploads/Fixed-Artistree_LionKing_Banner.jpg
END:VEVENT
END:VCALENDAR