BEGIN:VCALENDAR
VERSION:2.0
PRODID:-//Emelin Theatre - ECPv6.15.20//NONSGML v1.0//EN
CALSCALE:GREGORIAN
METHOD:PUBLISH
X-WR-CALNAME:Emelin Theatre
X-ORIGINAL-URL:https://emelin.org
X-WR-CALDESC:Events for Emelin Theatre
REFRESH-INTERVAL;VALUE=DURATION:PT1H
X-Robots-Tag:noindex
X-PUBLISHED-TTL:PT1H
BEGIN:VTIMEZONE
TZID:America/New_York
BEGIN:DAYLIGHT
TZOFFSETFROM:-0500
TZOFFSETTO:-0400
TZNAME:EDT
DTSTART:20240310T070000
END:DAYLIGHT
BEGIN:STANDARD
TZOFFSETFROM:-0400
TZOFFSETTO:-0500
TZNAME:EST
DTSTART:20241103T060000
END:STANDARD
BEGIN:DAYLIGHT
TZOFFSETFROM:-0500
TZOFFSETTO:-0400
TZNAME:EDT
DTSTART:20250309T070000
END:DAYLIGHT
BEGIN:STANDARD
TZOFFSETFROM:-0400
TZOFFSETTO:-0500
TZNAME:EST
DTSTART:20251102T060000
END:STANDARD
BEGIN:DAYLIGHT
TZOFFSETFROM:-0500
TZOFFSETTO:-0400
TZNAME:EDT
DTSTART:20260308T070000
END:DAYLIGHT
BEGIN:STANDARD
TZOFFSETFROM:-0400
TZOFFSETTO:-0500
TZNAME:EST
DTSTART:20261101T060000
END:STANDARD
END:VTIMEZONE
BEGIN:VEVENT
DTSTART;TZID=America/New_York:20250731T193000
DTEND;TZID=America/New_York:20250731T213000
DTSTAMP:20260420T044408
CREATED:20250321T154013Z
LAST-MODIFIED:20250703T043200Z
UID:10000574-1753990200-1753997400@emelin.org
SUMMARY:Little Lies: A Tribute to Fleetwood Mac
DESCRIPTION:Little Lies\nA Tribute to Fleetwood Mac\n			\n				\n				\n				\n				\n				Thursday\, July 31\, 2025 @ 7:30pm\n			\n				BUY TICKETS | $41 – $53\n			\n			\n				\n				\n				\n				\n			\n				\n				\n			\n				\n				\n				\n				\n				\n				\n				\n				\n				\n				\n				\n				\n				\n				\n				\n				\n				\n				\n			\n				\n				\n				\n				\n				Little Lies: A Tribute to Fleetwood Mac is a musical ode to the timeless sound of legendary rock band\, Fleetwood Mac. The talented eight-piece group replicates the original band’s signature style and hypnotic energy. With close attention to detail in both vocals and instrumentation\, the band will transport you back to the height of Fleetwood Mac’s success\, offering an authentic experience that honors their legacy. Little Lies performs renditions of Fleetwood Mac’s most beloved songs\, including Go Your Own Way\, Landslide\, Rhiannon\, and more\, perfectly capturing the band’s indelible mark on rock\, folk\, and pop culture.\n			\n				\n				\n				\n				\n				\n				\n			\n			\n				\n				\n				\n				\n			\n				\n				\n				\n				\n				\n				\n				BUY TICKETS | $41 – $53
URL:https://emelin.org/event/little-lies-a-tribute-to-fleetwood-mac/
LOCATION:Emelin Theatre\, 153 Library Lane\, Mamaroneck\, NY\, 10543\, United States
CATEGORIES:Tribute,Featured,Music,Summer Series,Promotion,4th of July,Rock
ATTACH;FMTTYPE=image/jpeg:https://emelin.org/wp-content/uploads/1200x600_LITTLE-LIES-BAND-PHOTO-JAN-2025_banner.jpg
END:VEVENT
BEGIN:VEVENT
DTSTART;TZID=America/New_York:20250725T200000
DTEND;TZID=America/New_York:20250725T220000
DTSTAMP:20260420T044408
CREATED:20250314T193656Z
LAST-MODIFIED:20250703T043200Z
UID:10000571-1753473600-1753480800@emelin.org
SUMMARY:Pompeii Floyd: Live at Pompeii
DESCRIPTION:Pompeii Floyd\n Live at Pompeii\n			\n				\n				\n				\n				\n				Friday\, July 25\, 2025  @ 8pm\n			\n				BUY TICKETS | $41 – $53\n			\n			\n				\n				\n				\n				\n			\n				\n				\n			\n				\n				\n				\n				\n				\n				\n				\n				\n				\n				\n				\n				\n				\n				\n				\n				\n				\n				\n			\n				\n				\n				\n				\n				Pompeii Floyd will be performing the famous setlist from Pink Floyd: Live at Pompeii to celebrate the film’s IMAX release. The NYC-based Pink Floyd tribute experience will perform their iconic hits including Echoes\, One of These Days\, and Set the Controls for the Heart of the Sun paired with spectacular visuals will put you right in the middle of the Pompeii Amphitheatre. As the film shows Pink Floyd in the studio recording Dark Side of the Moon\, the six-piece band will play the landmark album in its entirety. Fans will relive the Pink Floyd experience through Pompeii Floyd’s thematic and theatrical recreation of the distinct David Gilmour guitar tones and Roger Waters bass lines. \nPompeii Floyd is led by guitarist and singer JT Curtis (from the Broadway cast of Let it Be)\, features bassist/singer James Preston (Hedwig and the Angry Inch)\, keyboardist/singer Dino Covelli (Surrogate Band) and drummer Hector Lopez (Tito Puente). Filling out the lineup as a six-piece band is singer/guitarist Meghan Rose (Xena: Warrior Musical) and saxophonist/keyboardist Colleen Farquhar (All Revved Up). Selling out venues across the tri-state area\, Pompeii Floyd has crafted a true Pink Floyd experience\, performing their iconic music with visuals to transport the audience to this classic Pink Floyd era. \n			\n				\n				\n				\n				\n				\n				\n			\n			\n				\n				\n				\n				\n			\n				\n				\n				\n				\n				\n				\n				BUY TICKETS | $41 – $53
URL:https://emelin.org/event/pompeii-floyd-live-at-pompeii/
LOCATION:Emelin Theatre\, 153 Library Lane\, Mamaroneck\, NY\, 10543\, United States
CATEGORIES:Tribute,Featured,Music,Summer Series,Promotion,4th of July,Rock
ATTACH;FMTTYPE=image/png:https://emelin.org/wp-content/uploads/1200x600_Pompeii-Floyd-Prism-Title_banner.png
END:VEVENT
BEGIN:VEVENT
DTSTART;TZID=America/New_York:20250620T200000
DTEND;TZID=America/New_York:20250620T220000
DTSTAMP:20260420T044408
CREATED:20250326T163916Z
LAST-MODIFIED:20250616T174101Z
UID:10000580-1750449600-1750456800@emelin.org
SUMMARY:Skerryvore
DESCRIPTION:Skerryvore\n			\n				\n				\n				\n				\n				Friday\, June\, 20\, 2025 @ 8pm\n			\n				BUY TICKETS | $45 – $57\n			\n				\n				\n				\n				\n				WHISKY SESSIONS STARTING @ 6:30pm\n			\n				THE WHISKY SESSIONS - Add-on Experience | $69\n			\n				\n				\n				\n				\n				PLEASE NOTE: This is the Add-On experience only. It does not include entrance to the show. \n			\n			\n				\n				\n				\n				\n			\n				\n				\n			\n				\n				\n				\n				\n				\n				\n				\n				\n				\n				\n				\n				\n				\n				\n				\n				\n				\n				From the island of Tiree to headlining festivals worldwide\, Scottish Celtic rock band Skerryvore has evolved from humble beginnings to becoming one of the leading bands of Scotland. The eight-piece band features a mix of bagpipes\, fiddles\, accordions\, and whistles\, along with guitar\, vocals\, keyboards\, bass\, and drums to create their distinctive sound. At the forefront of a movement\, Skerryvore has redefined the traditional Scottish scene with a fusion of folk\, rock\, and Americana for a modern and multicultural audience. From intimate halls in Scotland to festivals and iconic stages like Central Park NYC\, the Ryder Cup in Louisville\, and the Shanghai Expo in China\, their high-energy performances have been brought to audiences across the globe.  \nSkerryvore is a three-time winner of Scotland’s ‘Live Act of the Year’ Award\, entered the top 40 in the Official UK Charts\, and hit #1 in both the Official Scottish Album and UK Folk Albums charts with their latest album\, Tempus. Their 7 studio albums demonstrate the wide range of influences the individual musicians bring to the mix and their ability to blend contemporary energy with the inspiration of traditional sound. \n\n“Such a fresh\, real\, new sound… I love it” – Jeremy Vine\, BBC Radio 2 UK  \n\n			\n				\n				\n				\n				\n				The Whisky Sessions – Add-on Experience\nMusic is universally understood to have the ability to change the mood of a person\, a group of people or an entire audience. But can it change or enhance the taste of whisky? We believe it can when the right music is selected and performed to match that whisky. \n‘The Whisky Sessions’ is an interactive session hosted by Skerryvore founding members that takes the audience on a journey of Scotland’s famous whisky regions and distilleries with music as the vehicle. \nAudience members will get to sample 4 or 5 specially selected malt whiskies with each ‘dram’ having a piece of music selected and performed to match that whisky during the tasting. The band will also reflect on personal experiences and stories linked to each particular whisky and/or region that again enhances the personal and intimate nature of this session. \nPLEASE NOTE: This is the Add-On experience only. It does not include entrance to the show.  \n‘The Whisky Sessions’ is limited to 30 audience members. \n			\n				\n				\n				\n				\n				\n				\n			\n			\n				\n				\n				\n				\n			\n				\n				\n				\n				\n				\n				\n				BUY TICKETS | $45 – $57\n			\n				THE WHISKY SESSIONS - Add-on Experience | $69
URL:https://emelin.org/event/skerryvore/
LOCATION:Emelin Theatre\, 153 Library Lane\, Mamaroneck\, NY\, 10543\, United States
CATEGORIES:Featured,Music,Summer Series,Promotion,Rock
ATTACH;FMTTYPE=image/png:https://emelin.org/wp-content/uploads/1200x600_Skerryvore-by-Elly-Lucas-blue-tones-11_banner.png
END:VEVENT
BEGIN:VEVENT
DTSTART;TZID=America/New_York:20250607T200000
DTEND;TZID=America/New_York:20250607T220000
DTSTAMP:20260420T044408
CREATED:20240805T132318Z
LAST-MODIFIED:20250828T195104Z
UID:10000513-1749326400-1749333600@emelin.org
SUMMARY:Ladies of Laughter
DESCRIPTION:LADIES OF LAUGHTER\n			\n				\n				\n				\n				\n				Saturday\, June 7\, 2025 @ 8pm\n			\n				BUY TICKETS | $46 – $58\n			\n			\n				\n				\n				\n				\n			\n				\n				\n			\n				\n				\n				\n				\n				\n				\n				\n				\n				\n				\n				\n				\n				\n				\n				\n				\n				\n				\n				\n			\n				\n				\n				\n				\n				This show features three of the funniest women in comedy including two Ladies of Laughter National winners and one Finalist from this heralded women’s comedy series. Join us as we celebrate being one’s true self – on stage and in our community with love and laughter! \n			\n			\n				\n				\n				\n				\n			\n				\n				\n				\n				\n				\n				\n				\n				\n				\n				\n				\n			\n			\n				\n				\n				\n				\n				\n				\n				\n				\n				\n				Poppy Champlin\n2024 National Ladies of Laughter Professional Winner \nPoppy is a comedically trained from Chicago Second City Training Center.  \nOne of the most versatile comics in the country\, her stand-up resume is extensive: Winner of America’s Funniest Real Woman on The Joan Rivers Show; featured on Entertainment Tonight\, Showtime\, LOGO\, Comics Unleashed\, Comedy Central\, VH-1\, HBO and Oprah. Poppy was recently inducted into the Rhode Island Comedy Hall of Fame and has opened for such comics as Ray Romano\, Denis Leary\, Bill Maher\, Bill Hicks and Rosie O’Donnell. \n			\n			\n				\n				\n				\n				\n			\n				\n				\n				\n				\n				\n				\n				\n				\n				\n				\n				\n			\n			\n				\n				\n				\n				\n				\n				\n				\n				\n				\n				Liz Glazer\n2021 National Ladies of Laughter Professional Winner \nLiz Glazer is an award-winning standup comedian\, actor\, and writer. Liz won first place in the Boston Comedy Festival and Ladies of Laughter Competition\, has been featured in a full article in the Wall Street Journal (as well as Above the Law\, Lex Magazine\, the Pennsylvania Gazette\, and other publications)\, and has opened for Myq Kaplan and Maria Bamford. Liz was also a part of the Seattle International Comedy Competition and will be a part of the upcoming HBO Women in Comedy Festival. As an actor\, Liz has appeared on ABC’s For Life and CBS’s Bull\, and is on the faculty at Lesly Kahn & Co.\, the Los Angeles acting studio. Liz is also writing a television pilot about her life\, a draft of which was a semi-finalist in the Stage 32 writing competition. \nLiz began her career as most standup comedians do: as a tenured law professor. AND THEN\, Liz gave it all up to do comedy\, where her material draws from her own life as a lesbian\, a rabbi’s wife\, and a former lawyer.\n			\n			\n				\n				\n				\n				\n			\n				\n				\n				\n				\n				\n				\n				\n				\n				\n				\n				\n			\n			\n				\n				\n				\n				\n				\n				\n				\n				\n				\n				Mina Hartong\nLadies of Laughter Professional Finalist \nAward winning comedian Mina Hartong (Curve Magazine Funniest Lesbians\, Joe’s Pub\, Broadway Comedy Club\, Burbank Comedy Festival) is an Emcee\, Educator and Funny Lady.  Based out of New York City\, Mina has been performing and touring for over twenty years. Her favorite shows include Don’t Tell Mama’s\, Gotham Comedy Club\, Gay Games Amsterdam\, Provincetown\, and the Montreal Fringe Festival. Mina has performed in Pride Festivals around the world\, including Iceland Pride where she marched next to the lesbian mayor! When she is not on stage\, Mina enjoys teaching Stand-up Comedy and developing new comics. Mina produces and hosts her own comedy and variety show Lez Out Loud\, which just had their tenth sold out show in Palm Springs\, CA. She taught Theater in public schools for 20 years.\n			\n			\n				\n				\n				\n				\n			\n				\n				\n			\n				\n				\n				\n				\n				\n				\n				\n				\n				\n				\n				\n				\n				\n				BUY TICKETS | $46 – $58
URL:https://emelin.org/event/ladies-of-laughter-june-2025/
LOCATION:Emelin Theatre\, 153 Library Lane\, Mamaroneck\, NY\, 10543\, United States
CATEGORIES:Featured,Summer Series,Promotion,Comedy
ATTACH;FMTTYPE=image/jpeg:https://emelin.org/wp-content/uploads/ladies-of-laughter_digital_banner_1200x600-4.jpg
END:VEVENT
BEGIN:VEVENT
DTSTART;TZID=America/New_York:20250531T200000
DTEND;TZID=America/New_York:20250531T220000
DTSTAMP:20260420T044409
CREATED:20240805T134036Z
LAST-MODIFIED:20250523T163559Z
UID:10000516-1748721600-1748728800@emelin.org
SUMMARY:An Evening with Tom Rush
DESCRIPTION:An Evening with Tom Rush\naccompanied by Matt Nakoa\n			\n				\n				\n				\n				\n				Saturday\, May 31\, 2025 @ 8PM\n			\n				BUY TICKETS | $50 - $61 (inclusive of all fees)\n			\n				\n				\n				\n				\n				\n			\n			\n				\n				\n				\n				\n			\n				\n				\n			\n				\n				\n				\n				\n				\n				\n				\n				\n				\n				\n				\n				\n				\n				\n				\n				\n				\n				Tom Rush helped shape the folk revival in the ’60s\, the folk-rock movement of the ‘70s\, and then the renaissance of the ’80s and ’90s\, his music having left its stamp on generations of artists. James Taylor\, Emmylou Harris\, Tom Petty and Garth Brooks have cited Tom as a major influence. His early recordings introduced the world to the work of Joni Mitchell\, Jackson Browne and James Taylor.  \nNow celebrating five decades of touring\, Tom Rush has been thrilling audiences here and abroad with hits like No Regrets\, Circle Game\, Remember Song\, Urge for Going and Merrimack County. \n			\n				\n				\n				\n				\n				\n				\n			\n			\n				\n				\n				\n				\n			\n				\n				\n				\n				\n				\n				\n				BUY TICKETS | $50 - $61 (inclusive of all fees)
URL:https://emelin.org/event/an-evening-with-tom-rush/
LOCATION:Emelin Theatre\, 153 Library Lane\, Mamaroneck\, NY\, 10543\, United States
CATEGORIES:Featured,Music,Promotion,Rock
ATTACH;FMTTYPE=image/png:https://emelin.org/wp-content/uploads/1200x600_Tom-Rush_banner.png
END:VEVENT
BEGIN:VEVENT
DTSTART;TZID=America/New_York:20250529T193000
DTEND;TZID=America/New_York:20250529T213000
DTSTAMP:20260420T044409
CREATED:20250221T183022Z
LAST-MODIFIED:20250523T163330Z
UID:10000564-1748547000-1748554200@emelin.org
SUMMARY:Monday Night Magic (on Thursday)
DESCRIPTION:Monday Night Magic (on Thursday)\n			\n				\n				\n				\n				\n				Thursday\, May 29\, 2025 @ 7:30pm\n			\n				BUY TICKETS | $50 – $68 (inclusive of all fees)\n			\n			\n				\n				\n				\n				\n			\n				\n				\n			\n				\n				\n				\n				\n				\n				\n				\n				\n				\n				\n				\n				\n				\n				\n				\n				\n				\n				Stage PerformersRyan KaneMichael ChautDavid Schwartz \nClose-Up Performers (begins at 7pm)Michael ChautRyan KanePeter Samelson \nMonday Night Magic is New York’s longest-running Off-Broadway magic show\, captivating audiences for 27 years with world-class sleight-of-hand\, mind-blowing illusions\, and up-close magical experiences. \nTop magicians deliver a night of astonishment\, laughter\, and unforgettable mystery. Monday Night Magic magicians have appeared on shows like Good Morning America\, America’s Got Talent\, Penn & Teller: Fool Us\, and more. Praised by The New York Times as “a magical night out\,” Monday Night Magic has become a must-see event for locals and tourists. Monday Night Magic has performed at many prestigious events\, including the Rainbow Room at Rockefeller Center\, the Museum of Natural History\, and SUCCESS Magazine’s Entrepreneurial Leadership Conference. \nFrom award-winning stage performances to jaw-dropping close-up magic in the theater aisles\, Monday Night Magic offers an immersive experience. Monday Night Magic features magicians of all specialties\, making each performance filled with an evening of wonder\, surprise\, and pure entertainment. Witness the impossible right before your eyes. \n			\n			\n				\n				\n				\n				\n			\n				\n				\n				\n				\n				\n				\n				\n				\n				\n				\n				\n			\n			\n				\n				\n				\n				\n				\n				\n				\n				\n				\n				Ryan Kane\nCutting Edge Magic and Captivating Entertainment \nRyan Kane is a mentalist\, magician\, and master of classic illusions that have mesmerized audiences worldwide. Kane’s repertoire spans the spectrum of magical arts. Whether he’s performing at corporate events\, private parties\, or headlining in theaters\, Ryan’s versatility shines through\, captivating audiences of all ages. Adding a touch of his wit and charisma to his mind-blowing illusions\, Ryan has earned praise along with a reputation as a magician extraordinaire. His shows are filled with entertainment\, blending mind-boggling illusions with interactive experiences that always leave his audiences wanting more. \n			\n			\n				\n				\n				\n				\n			\n				\n				\n				\n				\n				\n				\n				\n				\n				\n				\n				\n			\n			\n				\n				\n				\n				\n				\n				\n				\n				\n				\n				Michael Chaut\nMagic With A Comic Touch \nMichael Chaut is a world-class magician and mentalist\, and the Founding Producer of Monday Night Magic. He has amazed celebrities including Paul Newman\, Sheryl Crow\, Robin Leach\, Steve Martin\, Ron Howard\, Yogi Berra\, and even the top NASCAR drivers at the Daytona 500. Michael has performed at all event types from corporate events and trade shows\, to cruise ships and television shows\, each show tailored to each audience and theme. He has consulted for TV shows including America’s Got Talent\, Masters of Illusion\, Penn & Teller: Fool Us\, and is a performing member of the world-famous Magic Castle in Los Angeles. \n			\n			\n				\n				\n				\n				\n			\n				\n				\n				\n				\n				\n				\n				\n				\n				\n				\n				\n			\n			\n				\n				\n				\n				\n				\n				\n				\n				\n				\n				David Schwartz\nMagic\, Mind‐Reading\, and More! \nAward-winning magician David Schwartz uses a combination of mind-reading\, expert sleight-of-hand\, and easygoing humor to entertain and delight his audience\, and will always leave them laughing and amazed. David specializes in entertaining at corporate and private events\, and he has performed for celebrities such as Jon Stewart\, Kelly Ripa\, Dick Cavett\, Yoko Ono\, and Yogi Berra. David specializes in performing magic up close\, allowing the audience to experience the impossible in their own hands.  \n			\n			\n				\n				\n				\n				\n			\n				\n				\n				\n				\n				\n				\n				\n				\n				\n				\n				\n			\n			\n				\n				\n				\n				\n				\n				\n				\n				\n				\n				Peter Samelson\nClose-Up Magician \nDescribed by The New York Times as the “soft-spoken conceptualist of sorcery\,” Peter Samelson is a master magician who blends poetic storytelling with breathtaking illusions. Peter is a performer\, creator\, and consultant who has dazzled audiences around the world. His ability to weave magic seamlessly with emotion and narrative has earned him a reputation as one of magic’s most innovative artists. Beyond the stage\, Samelson has designed illusions for Broadway\, film\, and television\, crafting moments of wonder for productions like The Fantasticks and Charlie Rose. From intimate close-up performances to grand theatrical productions\, Peter Samelson takes magic to the next level and creates experiences that linger in the mind long after the final illusion fades.. \n			\n			\n				\n				\n				\n				\n			\n				\n				\n			\n				\n				\n				\n				\n				\n				\n				\n				\n				\n				\n				\n				\n				\n				BUY TICKETS | $50 – $68  (inclusive of all fees)
URL:https://emelin.org/event/monday-night-magic-on-thursday/
LOCATION:Emelin Theatre\, 153 Library Lane\, Mamaroneck\, NY\, 10543\, United States
CATEGORIES:Featured,Other,Promotion
ATTACH;FMTTYPE=image/png:https://emelin.org/wp-content/uploads/1200x600_mnm-5x5-Smaller-Cropped_banner.png
END:VEVENT
END:VCALENDAR