BEGIN:VCALENDAR
VERSION:2.0
PRODID:-//Emelin Theatre - ECPv6.15.20//NONSGML v1.0//EN
CALSCALE:GREGORIAN
METHOD:PUBLISH
X-ORIGINAL-URL:https://emelin.org
X-WR-CALDESC:Events for Emelin Theatre
REFRESH-INTERVAL;VALUE=DURATION:PT1H
X-Robots-Tag:noindex
X-PUBLISHED-TTL:PT1H
BEGIN:VTIMEZONE
TZID:America/New_York
BEGIN:DAYLIGHT
TZOFFSETFROM:-0500
TZOFFSETTO:-0400
TZNAME:EDT
DTSTART:20250309T070000
END:DAYLIGHT
BEGIN:STANDARD
TZOFFSETFROM:-0400
TZOFFSETTO:-0500
TZNAME:EST
DTSTART:20251102T060000
END:STANDARD
BEGIN:DAYLIGHT
TZOFFSETFROM:-0500
TZOFFSETTO:-0400
TZNAME:EDT
DTSTART:20260308T070000
END:DAYLIGHT
BEGIN:STANDARD
TZOFFSETFROM:-0400
TZOFFSETTO:-0500
TZNAME:EST
DTSTART:20261101T060000
END:STANDARD
BEGIN:DAYLIGHT
TZOFFSETFROM:-0500
TZOFFSETTO:-0400
TZNAME:EDT
DTSTART:20270314T070000
END:DAYLIGHT
BEGIN:STANDARD
TZOFFSETFROM:-0400
TZOFFSETTO:-0500
TZNAME:EST
DTSTART:20271107T060000
END:STANDARD
END:VTIMEZONE
BEGIN:VEVENT
DTSTART;TZID=America/New_York:20260502T200000
DTEND;TZID=America/New_York:20260502T220000
DTSTAMP:20260419T215932
CREATED:20260203T192044Z
LAST-MODIFIED:20260402T124308Z
UID:10000694-1777752000-1777759200@emelin.org
SUMMARY:An Evening With Brett Dennen - Art is LIfe
DESCRIPTION:Low Ticket Alert\n			\n				\n				\n				\n				\n				An Evening With Brett Dennen\nArt is LIfe\n			\n				\n				\n				\n				\n				Saturday\, May 2\, 2026 @ 8pm\n			\n				BUY TICKETS | $41 - $53\n			\n			\n				\n				\n				\n				\n			\n				\n				\n			\n				\n				\n				\n				\n				\n				\n				\n				\n				\n				\n				\n				\n				\n				\n				\n				\n				\n				\n				\n					“[He] is all about the bright sounds of summer\, his fresh approach to songwriting helps his music resonate” – Billboard \n					\n					 \n				\n			\n				\n				\n				\n				\n				\n			\n				\n				\n				\n				\n				Folk-pop singer-songwriter Brett Dennen has spent decades capturing audiences with his soulful voice\, thoughtful lyricism\, and deeply human storytelling. With multiple Top Ten AAA radio singles — including “Make You Crazy\,” “Wild Child\,” “Already Gone\,” and See the World — Dennen has established himself as a standout voice in contemporary American music\, blending folk\, roots\, and indie pop into emotionally resonant songs that connect across generations. \nAcross his career\, Dennen has toured extensively throughout the United States and internationally\, connecting with fans at venues ranging from intimate theaters to larger festivals. Dennen has collaborated with artists such as Femi Kuti\, Natalie Merchant and Jason Mraz\, and has toured with the likes of the Dave Matthews Band\, Rodrigo Y Gabriela and the John Butler Trio\, among others. \nHis latest studio work reflects a rich evolution as an artist\, including See the World (2021) and If It Takes Forever (2025)\, where intimate songwriting meets immersive folk-rock textures and contemplative narratives. Dennen’s live performances are celebrated for their warmth and energy\, forging a deep connection between artist and audience through both classic favorites and new material. \nHe also uses his platform to foster community and environmental stewardship\, creating events such as the annual Lift Series and Camp Dennen retreats that combine music with local conservation efforts and social engagement. \nWhether you’re a long-time fan or discovering his music for the first time\, a Brett Dennen show offers heartfelt storytelling\, soaring melodies\, and a shared experience that lingers long after the last note. \n			\n				\n				\n				\n				\n				\n \n\n\n			\n				\n				\n				\n				\n				This event is limited to 4 tickets per purchase. \nWe do not sell tickets on any other ticketing site. Any tickets to an Emelin Theatre event that are not sold directly from www.emelin.org are invalid tickets. \n			\n			\n				\n				\n				\n				\n			\n				\n				\n				\n				\n				\n				\n				BUY TICKETS | $41 - $53
URL:https://emelin.org/event/brett-dennen/
LOCATION:Emelin Theatre\, 153 Library Lane\, Mamaroneck\, NY\, 10543\, United States
CATEGORIES:Upcoming Events Inclusion,Featured,Music,Rock
ATTACH;FMTTYPE=image/jpeg:https://emelin.org/wp-content/uploads/1200x600_Official-BRETT-DENNEN-photo_banner.jpg
END:VEVENT
BEGIN:VEVENT
DTSTART;TZID=America/New_York:20260606T200000
DTEND;TZID=America/New_York:20260606T210000
DTSTAMP:20260419T215932
CREATED:20260116T215900Z
LAST-MODIFIED:20260416T152255Z
UID:10000693-1780776000-1780779600@emelin.org
SUMMARY:Mingus Big Band
DESCRIPTION:Low Ticket Alert\n			\n				\n				\n				\n				\n				Emelin Theatre presents Birdland Jazz\nMingus Big Band\n			\n				\n				\n				\n				\n				Saturday\, June 6\, 2026 @ 8pm\n			\n				BUY TICKETS | $51- $70\n			\n			\n				\n				\n				\n				\n			\n				\n				\n			\n				\n				\n				\n				\n				\n				\n				\n				\n				\n				\n				\n				\n				\n				\n				\n				\n				\n				\n				\n					“The Mingus Band has taken a musical legacy and transformed it into a creative force. They are a constant reminder that jazz—big band jazz\, at that—is not merely entertainment but a powerful art form and means of expression.”\n–All About Jazz\n					\n					 \n				\n			\n				\n				\n				\n				\n				Mingus Big Band is one of the most celebrated large jazz ensembles in the world. The band has released twelve recordings\, earned seven Grammy nominations\, and won the GRAMMY Award for Best Large Jazz Ensemble Album in 2011 for Live at Jazz Standard. Their recent projects include The Charles Mingus Centennial Sessions\, released in 2022 and nominated for a GRAMMY\, followed by Volume II in 2024 on Candid Records. A mainstay at major festivals and prestigious venues worldwide\, Mingus Big Band is also a New York institution\, known for its long-running residencies and its rotating roster of elite and rising jazz musicians. \nCreated to realize composer and bassist Charles Mingus’s vision for large-ensemble performance\, Mingus Big Band builds on the legacy of earlier projects such as Mingus Dynasty and the monumental Epitaph orchestra. The 14-piece ensemble was designed to explore Mingus’s compositions at a scale he often imagined but was unable to consistently assemble during his lifetime. Through bold new arrangements and deep collective improvisation\, the band keeps Mingus’s music alive as a living\, evolving art form. \n			\n				\n				\n				\n				\n				\n \n\n\n\n			\n			\n				\n				\n				\n				\n			\n				\n				\n				\n				\n				\n				\n				BUY TICKETS | $51 - $70\n			\n			\n				\n				\n				\n				\n			\n				\n				\n			\n				\n				\n				\n				\n				\n				\n				\n				\n				\n				\n				\n				\n				\n				\n				\n				\n				\n				Emelin Theatre presents Birdland Jazz is pleased to be partnered with these Industry-Leading Musical Instrument Companies:
URL:https://emelin.org/event/mingus-big-band/
LOCATION:Emelin Theatre\, 153 Library Lane\, Mamaroneck\, NY\, 10543\, United States
CATEGORIES:Upcoming Events Inclusion,Music,Jazz
ATTACH;FMTTYPE=image/jpeg:https://emelin.org/wp-content/uploads/1200x600_mingus-big-band_banner.jpg
END:VEVENT
BEGIN:VEVENT
DTSTART;TZID=America/New_York:20260801T200000
DTEND;TZID=America/New_York:20260801T220000
DTSTAMP:20260419T215932
CREATED:20260408T194308Z
LAST-MODIFIED:20260416T152101Z
UID:10000721-1785614400-1785621600@emelin.org
SUMMARY:Ron Carter's Foursight Quartet
DESCRIPTION:Emelin Theatre presents Birdland Jazz\nRon Carter’s Foursight Quartet\n			\n				\n				\n				\n				\n				Saturday\, August 1\, 2026 @ 8pm\n			\n				\n				\n				\n				\n				Buy 2+ Summer Shows and Save 10%\nUSE CODE: SUMMER10\n			\n				BUY TICKETS | $65 - $77\n			\n			\n				\n				\n				\n				\n			\n				\n				\n			\n				\n				\n				\n				\n				\n				\n				\n				\n				\n				\n				\n				\n				\n				\n				\n				\n				\n				\n				\n					“Carter’s bass lines are models of elegance and precision.” — The New York Times \n					\n					 \n				\n			\n				\n				\n				\n				\n				\n			\n				\n				\n				\n				\n				A true giant of jazz\, Ron Carter is one of the most recorded musicians in history\, with over 2\,200 album credits and a Guinness World Record to prove it. A three-time Grammy Award winner\, recipient of the NEA Jazz Masters Fellowship\, and honored internationally with France’s Order of Arts and Letters and Japan’s Order of the Rising Sun\, Carter’s influence spans more than six decades and continues to shape the sound of modern music. \nSeeing Ron Carter live is a rare opportunity to experience a true master whose playing defined the sound of an era and continues to evolve today. From his groundbreaking work with the Miles Davis Quintet (1963–1968) to his collaborations with legends like Herbie Hancock\, Wayne Shorter\, and Bill Evans\, Carter helped redefine the role of the bass—bringing melodic sophistication\, rhythmic precision\, and unmatched musical intelligence to every performance. \nBeyond jazz\, Carter’s career spans genres and generations. He has recorded with artists ranging from Aretha Franklin and Billy Joel to A Tribe Called Quest\, composed for film\, and continues to tour worldwide with ensembles including his Golden Striker Trio and Great Big Band. His recent work includes the 2026 release Sweet\, Sweet Spirit\, a groundbreaking jazz-gospel collaboration that reflects his continued artistic evolution. \nFor those who appreciate the artistry and history of jazz\, a Ron Carter performance is not just a concert—it’s an opportunity to witness one of the genre’s living legends at work. \n			\n				\n				\n				\n				\n				\n \n\n\n\n\n\n			\n			\n				\n				\n				\n				\n			\n				\n				\n				\n				\n				\n				\n				BUY TICKETS | $65 - $77\n			\n			\n				\n				\n				\n				\n			\n				\n				\n			\n				\n				\n				\n				\n				\n				\n				\n				\n				\n				\n				\n				\n				\n				\n				\n				\n				\n				Emelin Theatre presents Birdland Jazz is pleased to be partnered with these Industry-Leading Musical Instrument Companies:
URL:https://emelin.org/event/ron-carters-foursight-quartet/
LOCATION:Emelin Theatre\, 153 Library Lane\, Mamaroneck\, NY\, 10543\, United States
CATEGORIES:Featured,Music,Summer Series,Jazz
ATTACH;FMTTYPE=image/jpeg:https://emelin.org/wp-content/uploads/1200x600_RonCarter_banner-1.jpg
END:VEVENT
BEGIN:VEVENT
DTSTART;TZID=America/New_York:20260806T193000
DTEND;TZID=America/New_York:20260806T213000
DTSTAMP:20260419T215932
CREATED:20260408T194325Z
LAST-MODIFIED:20260416T152208Z
UID:10000716-1786044600-1786051800@emelin.org
SUMMARY:The Brit Pack
DESCRIPTION:The Brit Pack\nBritish Invasion and More\n			\n				\n				\n				\n				\n				Thursday\, August 6\, 2026 @ 7:30pm\n			\n				\n				\n				\n				\n				Buy 2+ Summer Shows and Save 10%\nUSE CODE: SUMMER10\n			\n				BUY TICKETS | $41 – $53\n			\n			\n				\n				\n				\n				\n			\n				\n				\n			\n				\n				\n				\n				\n				\n				\n				\n				\n				\n				\n				\n				\n				\n				\n				\n				\n				\n				\n			\n				\n				\n				\n				\n				If you love classic rock\, The Brit Pack delivers a powerhouse night of the music that defined generations. From the anthemic swagger of Led Zeppelin and The Rolling Stones to the theatrical brilliance of Queen and the cool edge of David Bowie\, this is a high-energy celebration of the greatest British rock ever recorded. \nWhat sets The Brit Pack apart is authenticity. Formed by British-born session musicians now based in the U.S.\, the band brings both musical precision and cultural roots to every performance. Their shows aren’t just a setlist of hits—they’re a full-bodied tribute to the sound\, spirit\, and evolution of British rock. \nThe Brit Pack’s repertoire spans decades\, covering everything from the iconic classics of the 1960s and ’70s to modern favorites from artists like Oasis and Coldplay. Each song is delivered with the energy\, style\, and reverence that made these tracks timeless in the first place. \nWith a sound that’s both faithful and electrifying\, The Brit Pack proves that great music never gets old. For fans of British rock\, this is a night packed with hits\, nostalgia\, and undeniable energy. \n			\n				\n				\n				\n				\n				\n \n\n\n\n\n			\n			\n				\n				\n				\n				\n			\n				\n				\n				\n				\n				\n				\n				BUY TICKETS | $41 – $53
URL:https://emelin.org/event/the-brit-pack/
LOCATION:Emelin Theatre\, 153 Library Lane\, Mamaroneck\, NY\, 10543\, United States
CATEGORIES:Featured,Music,Summer Series,Rock
ATTACH;FMTTYPE=image/png:https://emelin.org/wp-content/uploads/1200x600_brit_pack_Banner-1-Center-logo.png
END:VEVENT
END:VCALENDAR