BEGIN:VCALENDAR
VERSION:2.0
PRODID:-//Emelin Theatre - ECPv6.15.20//NONSGML v1.0//EN
CALSCALE:GREGORIAN
METHOD:PUBLISH
X-ORIGINAL-URL:https://emelin.org
X-WR-CALDESC:Events for Emelin Theatre
REFRESH-INTERVAL;VALUE=DURATION:PT1H
X-Robots-Tag:noindex
X-PUBLISHED-TTL:PT1H
BEGIN:VTIMEZONE
TZID:America/New_York
BEGIN:DAYLIGHT
TZOFFSETFROM:-0500
TZOFFSETTO:-0400
TZNAME:EDT
DTSTART:20250309T070000
END:DAYLIGHT
BEGIN:STANDARD
TZOFFSETFROM:-0400
TZOFFSETTO:-0500
TZNAME:EST
DTSTART:20251102T060000
END:STANDARD
BEGIN:DAYLIGHT
TZOFFSETFROM:-0500
TZOFFSETTO:-0400
TZNAME:EDT
DTSTART:20260308T070000
END:DAYLIGHT
BEGIN:STANDARD
TZOFFSETFROM:-0400
TZOFFSETTO:-0500
TZNAME:EST
DTSTART:20261101T060000
END:STANDARD
BEGIN:DAYLIGHT
TZOFFSETFROM:-0500
TZOFFSETTO:-0400
TZNAME:EDT
DTSTART:20270314T070000
END:DAYLIGHT
BEGIN:STANDARD
TZOFFSETFROM:-0400
TZOFFSETTO:-0500
TZNAME:EST
DTSTART:20271107T060000
END:STANDARD
END:VTIMEZONE
BEGIN:VEVENT
DTSTART;TZID=America/New_York:20260502T110000
DTEND;TZID=America/New_York:20260502T150000
DTSTAMP:20260419T233854
CREATED:20250530T141621Z
LAST-MODIFIED:20260302T173850Z
UID:10000601-1777719600-1777734000@emelin.org
SUMMARY:The Pout-Pout Fish
DESCRIPTION:Low Ticket Alert\n			\n				\n				\n				\n				\n				TheaterWorksUSA presents\nThe Pout-Pout Fish\n			\n				\n				\n				\n				\n				Saturday\, May 2\, 2026 @ 11am & 2pm\nTICKETS | $27 youth / $32 adults\n			\n			\n				\n				\n				\n				\n			\n				\n				\n				\n				\n				\n				\n				BUY TICKETS | 11:00AM SHOW\n			\n			\n				\n				\n				\n				\n				\n				BUY TICKETS | 2:00PM SHOW\n			\n			\n				\n				\n				\n				\n			\n				\n				\n			\n				\n				\n				\n				\n				\n				\n				\n				\n				\n				\n				\n				\n				\n				\n				\n				\n				\n				Dive into a whimsical underwater adventure with The Pout-Pout Fish\, a heartwarming musical that brings the beloved New York Times bestseller to life. Featuring a blend of vibrant puppetry and live performers\, this tale follows Mr. Fish on a quest to find Miss Clam’s missing pearl\, discovering along the way that there’s more to him than his signature pout. Co-conceived and designed by the acclaimed AchesonWalsh Studios\, known for their work on Broadway’s The King and I and On the Town\, this production promises a captivating experience for audiences of all ages. \nApproximate Running Time: 50 minutes \n			\n				\n				\n				\n				\n				\n				\n			\n			\n				\n				\n				\n				\n			\n				\n				\n				\n				\n				\n				\n				BUY TICKETS | 11:00AM SHOW\n			\n			\n				\n				\n				\n				\n				\n				BUY TICKETS | 2:00PM SHOW\n			\n			\n				\n				\n				\n				\n			\n				\n				\n				\n				\n				\n				\n				\n				\n				\n				\n				ABOUT THEATERWORKS USA We picture a world in which theatre gives rising generations a reason to look up and explore themselves and their communities with optimism and excitement. We create exceptional\, transformative theatrical experiences that are accessible to young and family audiences in diverse communities throughout New York City and North America. \n			\n			\n				\n				\n				\n				\n				\n				\n				\n				\n				\n				\n			\n				\n				\n				\n					\n						Search for:
URL:https://emelin.org/event/the-pout-pout-fish/
LOCATION:Emelin Theatre\, 153 Library Lane\, Mamaroneck\, NY\, 10543\, United States
CATEGORIES:Upcoming Events Inclusion,Family
ATTACH;FMTTYPE=image/jpeg:https://emelin.org/wp-content/uploads/1200x600_Pout-Pout-Fish-Key-Art-Title_banner.jpg
END:VEVENT
END:VCALENDAR