BEGIN:VCALENDAR
VERSION:2.0
PRODID:-//Emelin Theatre - ECPv6.15.20//NONSGML v1.0//EN
CALSCALE:GREGORIAN
METHOD:PUBLISH
X-ORIGINAL-URL:https://emelin.org
X-WR-CALDESC:Events for Emelin Theatre
REFRESH-INTERVAL;VALUE=DURATION:PT1H
X-Robots-Tag:noindex
X-PUBLISHED-TTL:PT1H
BEGIN:VTIMEZONE
TZID:America/New_York
BEGIN:DAYLIGHT
TZOFFSETFROM:-0500
TZOFFSETTO:-0400
TZNAME:EDT
DTSTART:20250309T070000
END:DAYLIGHT
BEGIN:STANDARD
TZOFFSETFROM:-0400
TZOFFSETTO:-0500
TZNAME:EST
DTSTART:20251102T060000
END:STANDARD
BEGIN:DAYLIGHT
TZOFFSETFROM:-0500
TZOFFSETTO:-0400
TZNAME:EDT
DTSTART:20260308T070000
END:DAYLIGHT
BEGIN:STANDARD
TZOFFSETFROM:-0400
TZOFFSETTO:-0500
TZNAME:EST
DTSTART:20261101T060000
END:STANDARD
BEGIN:DAYLIGHT
TZOFFSETFROM:-0500
TZOFFSETTO:-0400
TZNAME:EDT
DTSTART:20270314T070000
END:DAYLIGHT
BEGIN:STANDARD
TZOFFSETFROM:-0400
TZOFFSETTO:-0500
TZNAME:EST
DTSTART:20271107T060000
END:STANDARD
END:VTIMEZONE
BEGIN:VEVENT
DTSTART;TZID=America/New_York:20260425T200000
DTEND;TZID=America/New_York:20260425T220000
DTSTAMP:20260420T092358
CREATED:20251211T173838Z
LAST-MODIFIED:20260310T163938Z
UID:10000691-1777147200-1777154400@emelin.org
SUMMARY:Gary Gulman: Grandiloquent
DESCRIPTION:SOLD OUT\n			\n				\n				\n				\n				\n				Gary GulmanGrandiloquent\n			\n				\n				\n				\n				\n				Saturday\, April 25\, 2026  @ 8pm\n			\n				\n				\n				\n				\n				This event is sold out online. Additional tickets may become available. Please call the box office\, (914) 698-0098\, for more information or be added to the waitlist. \n			\n				\n				\n				\n				\n				\n				\n					“Gary Gulman stirs up laughter and empathy. Whip-smart\, witty\, and surprisingly moving.”\n — New York Theatre Guide\n					\n					 \n				\n			\n			\n				\n				\n				\n				\n			\n				\n				\n				\n				\n				\n				\n				\n				\n				\n				\n				\n				\n					\n					\n				\n				\n			\n			\n				\n				\n				\n				\n				\n				\n				\n				\n				\n				Hailed by Esquire as someone who “can make absolutely anything funny” Gary Gulman has established himself as an eminent performer and peerless writer\, with a thirty-year career marked by masterful specials\, critically acclaimed long-form storytelling\, and a singular comedic voice.  \nGrandiloquent is his hilarious new show about insecurity\, empathy\, self-acceptance and how a thoughtful boy learned to use humor\, reading and writing to cope with the consequences of his parents’ blunders. Learn why a seemingly confident middle-aged man feels most comfortable in a large room where a thousand strangers are laughing at him. \nHis HBO Max specials—including Born on 3rd Base\, praised for its razor-sharp insight into the American wealth divide\, and The Great Depresh\, a groundbreaking blend of humor and mental-health candor—have secured his place among the most thoughtful comedians of his generation. \nGulman’s talent extends far beyond stand-up: he appeared in the Oscar-nominated film Joker\, co-starred with Amy Schumer in Hulu’s Life & Beth\, and made his Off-Broadway debut with a five-week\, sold-out run of Grandiloquent\, directed by Tony Award winner Moritz von Stuelpnagel. \nA night with Gary Gulman is more than comedy—it is storytelling at its most human\, honest\, and hilariously precise.
URL:https://emelin.org/event/gary-gulman-grandiloquent/
LOCATION:Emelin Theatre\, 153 Library Lane\, Mamaroneck\, NY\, 10543\, United States
CATEGORIES:Upcoming Events Inclusion,Comedy
ATTACH;FMTTYPE=image/jpeg:https://emelin.org/wp-content/uploads/1200x600_Gary-Gulman_Grandiloquent.jpg
END:VEVENT
BEGIN:VEVENT
DTSTART;TZID=America/New_York:20260529T200000
DTEND;TZID=America/New_York:20260529T220000
DTSTAMP:20260420T092358
CREATED:20260213T183448Z
LAST-MODIFIED:20260319T193258Z
UID:10000697-1780084800-1780092000@emelin.org
SUMMARY:Ladies of Laughter Featuring Carmen Lynch
DESCRIPTION:Ladies of Laughter Featuring\nCarmen Lynch\nPresented by the Emelin Theatre\n			\n				\n				\n				\n				\n				Friday\, May 29\, 2026 @ 8pm\n			\n				BUY TICKETS | $47 - $59\n			\n			\n				\n				\n				\n				\n			\n				\n				\n			\n				\n				\n				\n				\n				\n				\n				\n				\n				\n				\n				\n				\n				\n				\n				\n				\n				\n				Ladies of Laughter returns with a fresh lineup of bold\, brilliant\, and razor-sharp women who prove just how hard funny can hit. \n			\n				\n				\n				\n				\n				\n				\n					“Lynch’s dry delivery and concise jokes put her in the comedic family tree of Steven Wright and Mitch Hedberg.”- The New York Times\n					\n					 \n				\n			\n			\n				\n				\n				\n				\n			\n				\n				\n				\n				\n				\n				\n				\n				\n				\n				\n				\n			\n			\n				\n				\n				\n				\n				\n				\n				\n				\n				\n				Carmen Lynch\nCarmen Lynch is a Spanish-American stand-up comedian based in New York City\, known for her sharp\, dry delivery and bilingual performances in English and Spanish. She has made two appearances on The Late Show with David Letterman and has been featured on The Tonight Show Starring Jimmy Fallon\, The Late Show with Stephen Colbert\, Conan\, and The Late Late Show with Craig Ferguson \nCarmen was featured twice on NBC’s Last Comic Standing and has appeared on Inside Amy Schumer\, The Good Wife\, and the documentary Hysterical. Her 2017 album Dance Like You Don’t Need the Money was named Comedy Album of the Year by SiriusXM and selected by The New York Times as one of five must-stream specials. \nShe has performed for U.S. troops overseas\, headlined major festivals including Edinburgh Fringe\, and tours internationally in both English and Spanish. \n			\n			\n				\n				\n				\n				\n			\n				\n				\n				\n				\n				\n				\n				\n				\n				\n				\n				\n  \n\n\n\n			\n			\n				\n				\n				\n				\n			\n				\n				\n				\n				\n				\n				\n				\n				\n				\n				\n				\n			\n			\n				\n				\n				\n				\n				\n				\n				\n				\n				\n				Carie Karavas\nCarie Karavas\, a tough\, street smart\, wisecracking stand-up comic\, has been taking the New York and national club scene by storm. Her tough exterior along with her hard-hitting style of delivery keeps her audiences laughing as soon as she hits the stage. The Long Island native\, has appeared on Comedy Central\, New Joke City and has been featured at the world famous Montreal Comedy Festival\, Mohegan Sun\, and on CBS’s Kevin Can Wait.  Carie was also a runner-up in Ladies of Laughter national competition at Resorts in Atlantic City. \n  \n  \n			\n			\n				\n				\n				\n				\n			\n				\n				\n				\n				\n				\n				\n				\n				\n				\n				\n				\n			\n			\n				\n				\n				\n				\n				\n				\n				\n				\n				\n				Ann Stengel\nBorn and raised in NY\, Ann was a Finalist in the inaugural Ladies of Laughter Finale at Caesars in Atlantic City. \nAnn shares her unique perspective on navigating life in retirement\, her love of crime shows and being married to a hypochondriac. Her hilarious relatable observations have earned her numerous accolades and she regularly opens for national comedy legend\, Cathy Ladman. \nAnn produced two Off-Broadway sketch comedy shows which caught the attention of 20th Century Fox and are published in the book\, Out\, Loud & Laughing. \n			\n			\n				\n				\n				\n				\n			\n				\n				\n			\n				\n				\n				\n				\n				\n				\n				\n				\n				\n				\n				\n				\n				\n				BUY TICKETS | $47 - $59
URL:https://emelin.org/event/ladies-of-laughter-featuring-carmen-lynch/
LOCATION:Emelin Theatre\, 153 Library Lane\, Mamaroneck\, NY\, 10543\, United States
CATEGORIES:Featured,Comedy
ATTACH;FMTTYPE=image/jpeg:https://emelin.org/wp-content/uploads/1200x600_ladies_of_laughter_banner.jpg
END:VEVENT
BEGIN:VEVENT
DTSTART;TZID=America/New_York:20260730T193000
DTEND;TZID=America/New_York:20260730T213000
DTSTAMP:20260420T092358
CREATED:20260408T194320Z
LAST-MODIFIED:20260416T152111Z
UID:10000709-1785439800-1785447000@emelin.org
SUMMARY:Cathy Ladman: I Have No One to Blame but Myself
DESCRIPTION:Cathy Ladman: \nI Have No One to Blame but Myself\n			\n				\n				\n				\n				\n				Thursday\, July 30\, 2026 @ 7:30pm\n			\n				\n				\n				\n				\n				Buy 2+ Summer Shows and Save 10%\nUSE CODE: SUMMER10\n			\n				BUY TICKETS | $47 - $59\n			\n			\n				\n				\n				\n				\n			\n				\n				\n			\n				\n				\n				\n				\n				\n				\n				\n				\n				\n				\n				\n				\n				\n				\n				\n				\n				\n				\n				\n					“Ladman has such clever\, well-written material and such a breezy\, unassuming delivery that it would be easy to overlook just how good she is: Her act seems effortless.”  —The Los Angeles Times \n					\n					 \n				\n			\n				\n				\n				\n				\n				\n			\n				\n				\n				\n				\n				Award-winning comedian Cathy Ladman has built a remarkable career as a stand-up\, writer\, actress\, and comedy coach\, earning the American Comedy Award for Best Female Stand-Up Comic and making ten appearances on The Tonight Show—with Johnny Carson\, Jay Leno\, and Jimmy Fallon—including the final two anniversary episodes of Carson’s legendary run. She has also appeared six times on The Late Late Show with Craig Ferguson\, starred in her own HBO One Night Stand special\, and was featured in a Showtime special. \nKnown for her candid\, self-aware humor\, Ladman’s stand-up dives into anxiety\, relationships\, body image\, and the everyday moments we all overthink—but rarely say out loud. Her delivery is deeply personal yet instantly relatable\, transforming life’s small struggles into sharp\, honest\, and consistently hilarious observations. \nBeyond the stage\, Ladman’s extensive film and television career includes recurring roles on I’m Dying Up Here and Pretty Little Liars\, along with guest appearances on Modern Family\, Curb Your Enthusiasm\, Mad Men\, Scandal\, NCIS: LA\, How to Get Away with Murder\, and Everybody Loves Raymond. Her film credits include The Aristocrats\, Charlie Wilson’s War\, and Don’t Tell Mom the Babysitter’s Dead. \n			\n				\n				\n				\n				\n				\n \n\n\n\n			\n			\n				\n				\n				\n				\n			\n				\n				\n				\n				\n				\n				\n				BUY TICKETS | $47 - $59
URL:https://emelin.org/event/cathy-ladman/
LOCATION:Emelin Theatre\, 153 Library Lane\, Mamaroneck\, NY\, 10543\, United States
CATEGORIES:Featured,Summer Series,Comedy
ATTACH;FMTTYPE=image/jpeg:https://emelin.org/wp-content/uploads/1200x600_cathy-ladman_banner-1.jpg
END:VEVENT
END:VCALENDAR