BEGIN:VCALENDAR
VERSION:2.0
PRODID:-//Emelin Theatre - ECPv6.15.20//NONSGML v1.0//EN
CALSCALE:GREGORIAN
METHOD:PUBLISH
X-WR-CALNAME:Emelin Theatre
X-ORIGINAL-URL:https://emelin.org
X-WR-CALDESC:Events for Emelin Theatre
REFRESH-INTERVAL;VALUE=DURATION:PT1H
X-Robots-Tag:noindex
X-PUBLISHED-TTL:PT1H
BEGIN:VTIMEZONE
TZID:America/New_York
BEGIN:DAYLIGHT
TZOFFSETFROM:-0500
TZOFFSETTO:-0400
TZNAME:EDT
DTSTART:20250309T070000
END:DAYLIGHT
BEGIN:STANDARD
TZOFFSETFROM:-0400
TZOFFSETTO:-0500
TZNAME:EST
DTSTART:20251102T060000
END:STANDARD
BEGIN:DAYLIGHT
TZOFFSETFROM:-0500
TZOFFSETTO:-0400
TZNAME:EDT
DTSTART:20260308T070000
END:DAYLIGHT
BEGIN:STANDARD
TZOFFSETFROM:-0400
TZOFFSETTO:-0500
TZNAME:EST
DTSTART:20261101T060000
END:STANDARD
BEGIN:DAYLIGHT
TZOFFSETFROM:-0500
TZOFFSETTO:-0400
TZNAME:EDT
DTSTART:20270314T070000
END:DAYLIGHT
BEGIN:STANDARD
TZOFFSETFROM:-0400
TZOFFSETTO:-0500
TZNAME:EST
DTSTART:20271107T060000
END:STANDARD
END:VTIMEZONE
BEGIN:VEVENT
DTSTART;TZID=America/New_York:20260425T100000
DTEND;TZID=America/New_York:20260425T143000
DTSTAMP:20260419T233844
CREATED:20260316T145248Z
LAST-MODIFIED:20260316T150901Z
UID:10000702-1777111200-1777127400@emelin.org
SUMMARY:Artistree Performing Arts Presents The Sound of Music\, Youth Edition | Tuesday/Thursday 3:30 Cast
DESCRIPTION:Artistree Performing Arts\nElementary Casts present\nThe Sound of Music\, Youth Edition\nTuesday/Thursday 3:30 Cast\nSaturday\, April 25\, 2026 @ 10am & 12:30pm\nTickets: $31 youth ($25 ticket + $6 service fee) / $36 – 41 adult ($30 – 35 ticket + $6 service fee)\n			\n			\n				\n				\n				\n				\n			\n				\n				\n				\n				\n				\n				\n				PURCHASE TICKETS | 10AM SHOW\n			\n			\n				\n				\n				\n				\n				\n				PURCHASE TICKETS | 12:30PM SHOW\n			\n			\n				\n				\n				\n				\n			\n				\n				\n				\n				\n				\n				\n				\n				\n				\n				\n				This Rodgers & Hammerstein classic was destined to become the world’s most beloved musical. Featuring a trove of cherished songs\, including “My Favorite Things\,” “Do-Re-Mi\,” “Sixteen Going on Seventeen” and the title number\, The Sound of Music won the hearts of audiences worldwide\, earning five Tony Awards and five Oscars. The inspirational story\, based on the memoir of Maria Augusta Trapp\, follows an ebullient postulate who serves as governess to the seven children of the imperious Captain von Trapp\, bringing music and joy to the household.
URL:https://emelin.org/event/artistree-performing-arts-presents-the-sound-of-music-youth-edition-tuesday-thursday-330-cast/
LOCATION:Emelin Theatre\, 153 Library Lane\, Mamaroneck\, NY\, 10543\, United States
CATEGORIES:Artistree
ATTACH;FMTTYPE=image/png:https://emelin.org/wp-content/uploads/1200x600-Artistree_the-sound-of-music_youth.png
END:VEVENT
BEGIN:VEVENT
DTSTART;TZID=America/New_York:20260425T123000
DTEND;TZID=America/New_York:20260425T143000
DTSTAMP:20260419T233844
CREATED:20260316T150628Z
LAST-MODIFIED:20260316T150628Z
UID:10000706-1777120200-1777127400@emelin.org
SUMMARY:Artistree Performing Arts Presents The Sound of Music\, Youth Edition | Tuesday/Thursday 3:30 Cast
DESCRIPTION:Artistree Performing Arts\nElementary Casts present\nThe Sound of Music\, Youth Edition\nTuesday/Thursday 3:30 Cast\nSaturday\, April 25\, 2026 @ 10am & 12:30pm\nTickets: $31 youth ($25 ticket + $6 service fee) / $36 – 41 adult ($30 – 35 ticket + $6 service fee)\n			\n			\n				\n				\n				\n				\n			\n				\n				\n				\n				\n				\n				\n				PURCHASE TICKETS | 10AM SHOW\n			\n			\n				\n				\n				\n				\n				\n				PURCHASE TICKETS | 12:30PM SHOW\n			\n			\n				\n				\n				\n				\n			\n				\n				\n				\n				\n				\n				\n				\n				\n				\n				\n				This Rodgers & Hammerstein classic was destined to become the world’s most beloved musical. Featuring a trove of cherished songs\, including “My Favorite Things\,” “Do-Re-Mi\,” “Sixteen Going on Seventeen” and the title number\, The Sound of Music won the hearts of audiences worldwide\, earning five Tony Awards and five Oscars. The inspirational story\, based on the memoir of Maria Augusta Trapp\, follows an ebullient postulate who serves as governess to the seven children of the imperious Captain von Trapp\, bringing music and joy to the household.
URL:https://emelin.org/event/artistree-performing-arts-presents-the-sound-of-music-youth-edition-tuesday-thursday-330-cast-2/
LOCATION:Emelin Theatre\, 153 Library Lane\, Mamaroneck\, NY\, 10543\, United States
CATEGORIES:Artistree
ATTACH;FMTTYPE=image/png:https://emelin.org/wp-content/uploads/1200x600-Artistree_the-sound-of-music_youth.png
END:VEVENT
BEGIN:VEVENT
DTSTART;TZID=America/New_York:20260426T100000
DTEND;TZID=America/New_York:20260426T143000
DTSTAMP:20260419T233844
CREATED:20260316T145346Z
LAST-MODIFIED:20260316T145822Z
UID:10000703-1777197600-1777213800@emelin.org
SUMMARY:Artistree Performing Arts Presents The Sound of Music\, Youth Edition | Tuesday/Thursday 5:30 Cast
DESCRIPTION:Artistree Performing Arts\nElementary Casts present\nThe Sound of Music\, Youth Edition\nTuesday/Thursday 5:30 Cast\nSunday\, April 26\, 2026 @ 10am & 12:30pm\nTickets: $31 youth ($25 ticket + $6 service fee) / $36 – 41 adult ($30 – 35 ticket + $6 service fee)\n			\n			\n				\n				\n				\n				\n			\n				\n				\n				\n				\n				\n				\n				PURCHASE TICKETS | 10AM SHOW\n			\n			\n				\n				\n				\n				\n				\n				PURCHASE TICKETS | 12:30PM SHOW\n			\n			\n				\n				\n				\n				\n			\n				\n				\n				\n				\n				\n				\n				\n				\n				\n				\n				This Rodgers & Hammerstein classic was destined to become the world’s most beloved musical. Featuring a trove of cherished songs\, including “My Favorite Things\,” “Do-Re-Mi\,” “Sixteen Going on Seventeen” and the title number\, The Sound of Music won the hearts of audiences worldwide\, earning five Tony Awards and five Oscars. The inspirational story\, based on the memoir of Maria Augusta Trapp\, follows an ebullient postulate who serves as governess to the seven children of the imperious Captain von Trapp\, bringing music and joy to the household.
URL:https://emelin.org/event/artistree-performing-arts-presents-the-sound-of-music-youth-edition-tuesday-thursday-530-cast/
LOCATION:Emelin Theatre\, 153 Library Lane\, Mamaroneck\, NY\, 10543\, United States
CATEGORIES:Artistree
ATTACH;FMTTYPE=image/png:https://emelin.org/wp-content/uploads/1200x600-Artistree_the-sound-of-music_youth.png
END:VEVENT
BEGIN:VEVENT
DTSTART;TZID=America/New_York:20260426T123000
DTEND;TZID=America/New_York:20260426T143000
DTSTAMP:20260419T233844
CREATED:20260316T150540Z
LAST-MODIFIED:20260316T150540Z
UID:10000705-1777206600-1777213800@emelin.org
SUMMARY:Artistree Performing Arts Presents The Sound of Music\, Youth Edition | Tuesday/Thursday 5:30 Cast
DESCRIPTION:Artistree Performing Arts\nElementary Casts present\nThe Sound of Music\, Youth Edition\nTuesday/Thursday 5:30 Cast\nSunday\, April 26\, 2026 @ 10am & 12:30pm\nTickets: $31 youth ($25 ticket + $6 service fee) / $36 – 41 adult ($30 – 35 ticket + $6 service fee)\n			\n			\n				\n				\n				\n				\n			\n				\n				\n				\n				\n				\n				\n				PURCHASE TICKETS | 10AM SHOW\n			\n			\n				\n				\n				\n				\n				\n				PURCHASE TICKETS | 12:30PM SHOW\n			\n			\n				\n				\n				\n				\n			\n				\n				\n				\n				\n				\n				\n				\n				\n				\n				\n				This Rodgers & Hammerstein classic was destined to become the world’s most beloved musical. Featuring a trove of cherished songs\, including “My Favorite Things\,” “Do-Re-Mi\,” “Sixteen Going on Seventeen” and the title number\, The Sound of Music won the hearts of audiences worldwide\, earning five Tony Awards and five Oscars. The inspirational story\, based on the memoir of Maria Augusta Trapp\, follows an ebullient postulate who serves as governess to the seven children of the imperious Captain von Trapp\, bringing music and joy to the household.
URL:https://emelin.org/event/artistree-performing-arts-presents-the-sound-of-music-youth-edition-tuesday-thursday-530-cast-2/
LOCATION:Emelin Theatre\, 153 Library Lane\, Mamaroneck\, NY\, 10543\, United States
CATEGORIES:Artistree
ATTACH;FMTTYPE=image/png:https://emelin.org/wp-content/uploads/1200x600-Artistree_the-sound-of-music_youth.png
END:VEVENT
BEGIN:VEVENT
DTSTART;TZID=America/New_York:20260507T193000
DTEND;TZID=America/New_York:20260507T203000
DTSTAMP:20260419T233844
CREATED:20260413T202254Z
LAST-MODIFIED:20260413T202258Z
UID:10000710-1778182200-1778185800@emelin.org
SUMMARY:ARTISTREE PERFORMING ARTS present A CHORUS LINE | Morning Cast
DESCRIPTION:Artistree Performing Arts\nHigh School Casts present\nA CHORUS LINE\nMorning Cast\nThursday\, May 7\, 2026 @ 7:30pm &\nSaturday\, May 9\, 2026 @ 7:30pm\nTickets: $20 – 36 youth ($14 – 30 ticket + $6 service fee) / $41 – 46 adult ($35 – 40 ticket + $6 service fee)\n			\n			\n				\n				\n				\n				\n			\n				\n				\n				\n				\n				\n				\n				PURCHASE TICKETS | THURSDAY\, MAY 7\, 2026 @ 7:30PM SHOW\n			\n			\n				\n				\n				\n				\n				\n				PURCHASE TICKETS | SATURDAY\, MAY 9 @ 7:30PM SHOW\n			\n			\n				\n				\n				\n				\n			\n				\n				\n				\n				\n				\n				\n				\n				\n				\n				\n				Artistree Performing Arts High School Casts present “A CHORUS LINE\,” the stunning concept musical capturing the spirit and tension of a Broadway ensemble audition. Exploring the inner lives and bittersweet ambitions of professional Broadway performers\, the show features one powerhouse number after another\, including “What I Did for Love\,” “One\,” “I Can Do That\,” “At the Ballet\,” “The Music and the Mirror” and “I Hope I Get It.”  A brilliantly complex fusion of song\, dance and compellingly authentic drama\, A Chorus Line was instantly recognized as a Broadway classic.
URL:https://emelin.org/event/artistree-performing-arts-present-a-chorus-line-morning-cast/
LOCATION:Emelin Theatre\, 153 Library Lane\, Mamaroneck\, NY\, 10543\, United States
CATEGORIES:Artistree
ATTACH;FMTTYPE=image/jpeg:https://emelin.org/wp-content/uploads/1200x600_Artistree_A-Chorus-Line_High-School.jpg
END:VEVENT
BEGIN:VEVENT
DTSTART;TZID=America/New_York:20260508T193000
DTEND;TZID=America/New_York:20260508T203000
DTSTAMP:20260419T233844
CREATED:20260413T201653Z
LAST-MODIFIED:20260413T201657Z
UID:10000711-1778268600-1778272200@emelin.org
SUMMARY:ARTISTREE PERFORMING ARTS present A CHORUS LINE | Afternoon Cast
DESCRIPTION:Artistree Performing Arts\nHigh School Casts present\nA CHORUS LINE\nAfternoon Cast\nFriday\, May 8\, 2026 @ 7:30pm &Saturday\, May 9\, 2026 @ 2:00pm\nTickets: $20 – 36 youth ($14 – 30 ticket + $6 service fee) / $41 – 46 adult ($35 – 40 ticket + $6 service fee)\n			\n			\n				\n				\n				\n				\n			\n				\n				\n				\n				\n				\n				\n				PURCHASE TICKETS | FRIDAY\, MAY 8\, 2026 @ 7:30PM SHOW\n			\n			\n				\n				\n				\n				\n				\n				PURCHASE TICKETS | SATURDAY\, MAY 9 @ 2:00PM SHOW\n			\n			\n				\n				\n				\n				\n			\n				\n				\n				\n				\n				\n				\n				\n				\n				\n				\n				Artistree Performing Arts High School Casts present “A CHORUS LINE\,” the stunning concept musical capturing the spirit and tension of a Broadway ensemble audition. Exploring the inner lives and bittersweet ambitions of professional Broadway performers\, the show features one powerhouse number after another\, including “What I Did for Love\,” “One\,” “I Can Do That\,” “At the Ballet\,” “The Music and the Mirror” and “I Hope I Get It.”  A brilliantly complex fusion of song\, dance and compellingly authentic drama\, A Chorus Line was instantly recognized as a Broadway classic.
URL:https://emelin.org/event/artistree-performing-arts-present-a-chorus-line-afternoon-cast/
LOCATION:Emelin Theatre\, 153 Library Lane\, Mamaroneck\, NY\, 10543\, United States
CATEGORIES:Artistree
ATTACH;FMTTYPE=image/jpeg:https://emelin.org/wp-content/uploads/1200x600_Artistree_A-Chorus-Line_High-School.jpg
END:VEVENT
BEGIN:VEVENT
DTSTART;TZID=America/New_York:20260509T140000
DTEND;TZID=America/New_York:20260509T150000
DTSTAMP:20260419T233844
CREATED:20260413T201701Z
LAST-MODIFIED:20260413T201704Z
UID:10000722-1778335200-1778338800@emelin.org
SUMMARY:ARTISTREE PERFORMING ARTS present A CHORUS LINE | Afternoon Cast
DESCRIPTION:Artistree Performing Arts\nHigh School Casts present\nA CHORUS LINE\nAfternoon Cast\nFriday\, May 8\, 2026 @ 7:30pm & Saturday\, May 9\, 2026 @ 2:00pm\nTickets: $20 – 36 youth ($14 – 30 ticket + $6 service fee) / $41 – 46 adult ($35 – 40 ticket + $6 service fee)\n			\n			\n				\n				\n				\n				\n			\n				\n				\n				\n				\n				\n				\n				PURCHASE TICKETS | FRIDAY\, MAY 8\, 2026 @ 7:30PM SHOW\n			\n			\n				\n				\n				\n				\n				\n				PURCHASE TICKETS | SATURDAY\, MAY 9 @ 2:00PM SHOW\n			\n			\n				\n				\n				\n				\n			\n				\n				\n				\n				\n				\n				\n				\n				\n				\n				\n				Artistree Performing Arts High School Casts present “A CHORUS LINE\,” the stunning concept musical capturing the spirit and tension of a Broadway ensemble audition. Exploring the inner lives and bittersweet ambitions of professional Broadway performers\, the show features one powerhouse number after another\, including “What I Did for Love\,” “One\,” “I Can Do That\,” “At the Ballet\,” “The Music and the Mirror” and “I Hope I Get It.”  A brilliantly complex fusion of song\, dance and compellingly authentic drama\, A Chorus Line was instantly recognized as a Broadway classic.
URL:https://emelin.org/event/artistree-performing-arts-present-a-chorus-line-afternoon-cast-2/
LOCATION:Emelin Theatre\, 153 Library Lane\, Mamaroneck\, NY\, 10543\, United States
CATEGORIES:Artistree
ATTACH;FMTTYPE=image/jpeg:https://emelin.org/wp-content/uploads/1200x600_Artistree_A-Chorus-Line_High-School.jpg
END:VEVENT
BEGIN:VEVENT
DTSTART;TZID=America/New_York:20260509T193000
DTEND;TZID=America/New_York:20260509T203000
DTSTAMP:20260419T233844
CREATED:20260413T202258Z
LAST-MODIFIED:20260413T202330Z
UID:10000723-1778355000-1778358600@emelin.org
SUMMARY:ARTISTREE PERFORMING ARTS present A CHORUS LINE | Morning Cast
DESCRIPTION:Artistree Performing Arts\nHigh School Casts present\nA CHORUS LINE\nMorning Cast\nThursday\, May 7\, 2026 @ 7:30pm &\nSaturday\, May 9\, 2026 @ 7:30pm\nTickets: $20 – 36 youth ($14 – 30 ticket + $6 service fee) / $41 – 46 adult ($35 – 40 ticket + $6 service fee)\n			\n			\n				\n				\n				\n				\n			\n				\n				\n				\n				\n				\n				\n				PURCHASE TICKETS | THURSDAY\, MAY 7\, 2026 @ 7:30PM SHOW\n			\n			\n				\n				\n				\n				\n				\n				PURCHASE TICKETS | SATURDAY\, MAY 9 @ 7:30PM SHOW\n			\n			\n				\n				\n				\n				\n			\n				\n				\n				\n				\n				\n				\n				\n				\n				\n				\n				\nArtistree Performing Arts High School Casts present “A CHORUS LINE\,” the stunning concept musical capturing the spirit and tension of a Broadway ensemble audition. Exploring the inner lives and bittersweet ambitions of professional Broadway performers\, the show features one powerhouse number after another\, including “What I Did for Love\,” “One\,” “I Can Do That\,” “At the Ballet\,” “The Music and the Mirror” and “I Hope I Get It.”  A brilliantly complex fusion of song\, dance and compellingly authentic drama\, A Chorus Line was instantly recognized as a Broadway classic.
URL:https://emelin.org/event/artistree-performing-arts-present-a-chorus-line-morning-cast-2/
LOCATION:Emelin Theatre\, 153 Library Lane\, Mamaroneck\, NY\, 10543\, United States
CATEGORIES:Artistree
ATTACH;FMTTYPE=image/jpeg:https://emelin.org/wp-content/uploads/1200x600_Artistree_A-Chorus-Line_High-School.jpg
END:VEVENT
BEGIN:VEVENT
DTSTART;TZID=America/New_York:20260515T190000
DTEND;TZID=America/New_York:20260515T200000
DTSTAMP:20260419T233844
CREATED:20260416T160051Z
LAST-MODIFIED:20260416T171003Z
UID:10000712-1778871600-1778875200@emelin.org
SUMMARY:ARTISTREE PERFORMING ARTS present SCHOOL OF ROCK\, Young Actors Edition | Sasha’s Friday Cast
DESCRIPTION:Artistree Performing Arts\nMiddle School Casts present\nSCHOOL OF ROCK\, Young Actors Edition\nSasha’s Friday Cast\nFriday\, May 15\, 2026 @ 7:00pm & Saturday\, May 16\, 2026 @ 12:00pm\nTickets: $20 – 31 youth ($14 – 25 ticket + $6 service fee) / $36 – 41 adult ($30 – 35 ticket + $6 service fee)\n			\n			\n				\n				\n				\n				\n			\n				\n				\n				\n				\n				\n				\n				PURCHASE TICKETS | FRIDAY\, MAY 15 @ 7:00PM SHOW\n			\n			\n				\n				\n				\n				\n				\n				PURCHASE TICKETS | SATURDAY\, MAY 16 @ 12:00PM SHOW\n			\n			\n				\n				\n				\n				\n			\n				\n				\n				\n				\n				\n				\n				\n				\n				\n				\n				Artistree Performing Arts Middle School School Casts present School of Rock: Young Actors Edition!  Rock got no reason\, rock got no rhyme… You better get me to school on time! Andrew Lloyd Webber’s dynamic\, one-hour version of the musical based on the hit movie\, follows Dewey Finn\, a failed\, wannabe rock star who decides to earn an extra bit of cash by posing as a substitute teacher at a prestigious prep school. There he turns a class of straight-A pupils into a guitar-shredding\, bass-slapping\, mind-blowing rock band. But can he get them to the Battle of the Bands without their parents and the school’s headmistress finding out?
URL:https://emelin.org/event/artistree-performing-arts-present-school-of-rock-young-actors-edition-sashas-friday-cast/
LOCATION:Emelin Theatre\, 153 Library Lane\, Mamaroneck\, NY\, 10543\, United States
CATEGORIES:Artistree
ATTACH;FMTTYPE=image/jpeg:https://emelin.org/wp-content/uploads/1200x600_Artistree_School-of-Rock_Middle-School.jpg
END:VEVENT
BEGIN:VEVENT
DTSTART;TZID=America/New_York:20260516T120000
DTEND;TZID=America/New_York:20260516T130000
DTSTAMP:20260419T233844
CREATED:20260416T160217Z
LAST-MODIFIED:20260416T171055Z
UID:10000725-1778932800-1778936400@emelin.org
SUMMARY:ARTISTREE PERFORMING ARTS present SCHOOL OF ROCK\, Young Actors Edition | Sasha’s Friday Cast
DESCRIPTION:Artistree Performing Arts\nMiddle School Casts present\nSCHOOL OF ROCK\, Young Actors Edition\nSasha’s Friday Cast\nFriday\, May 15\, 2026 @ 7:00pm & Saturday\, May 16\, 2026 @ 12:00pm\nTickets: $20 – 31 youth ($14 – 25 ticket + $6 service fee) / $36 – 41 adult ($30 – 35 ticket + $6 service fee)\n			\n			\n				\n				\n				\n				\n			\n				\n				\n				\n				\n				\n				\n				PURCHASE TICKETS | FRIDAY\, MAY 15 @ 7:00PM SHOW\n			\n			\n				\n				\n				\n				\n				\n				PURCHASE TICKETS | SATURDAY\, MAY 16 @ 12:00PM SHOW\n			\n			\n				\n				\n				\n				\n			\n				\n				\n				\n				\n				\n				\n				\n				\n				\n				\n				Artistree Performing Arts Middle School School Casts present School of Rock: Young Actors Edition!  Rock got no reason\, rock got no rhyme… You better get me to school on time! Andrew Lloyd Webber’s dynamic\, one-hour version of the musical based on the hit movie\, follows Dewey Finn\, a failed\, wannabe rock star who decides to earn an extra bit of cash by posing as a substitute teacher at a prestigious prep school. There he turns a class of straight-A pupils into a guitar-shredding\, bass-slapping\, mind-blowing rock band. But can he get them to the Battle of the Bands without their parents and the school’s headmistress finding out?
URL:https://emelin.org/event/artistree-performing-arts-present-school-of-rock-young-actors-edition-sashas-friday-cast-2/
LOCATION:Emelin Theatre\, 153 Library Lane\, Mamaroneck\, NY\, 10543\, United States
CATEGORIES:Artistree
ATTACH;FMTTYPE=image/jpeg:https://emelin.org/wp-content/uploads/1200x600_Artistree_School-of-Rock_Middle-School.jpg
END:VEVENT
BEGIN:VEVENT
DTSTART;TZID=America/New_York:20260516T163000
DTEND;TZID=America/New_York:20260516T173000
DTSTAMP:20260419T233844
CREATED:20260416T161917Z
LAST-MODIFIED:20260416T161924Z
UID:10000713-1778949000-1778952600@emelin.org
SUMMARY:ARTISTREE PERFORMING ARTS present SCHOOL OF ROCK\, Young Actors Edition | Veronica’s Friday Cast
DESCRIPTION:Artistree Performing Arts\nMiddle School Casts present\nSCHOOL OF ROCK\, Young Actors Edition\nVeronica’s Friday Cast\nSaturday\, May 16\, 2026 @ 4:30pm & 7:00pm\nTickets: $20 – 31 youth ($14 – 25 ticket + $6 service fee) / $36 – 41 adult ($30 – 35 ticket + $6 service fee)\n			\n			\n				\n				\n				\n				\n			\n				\n				\n				\n				\n				\n				\n				PURCHASE TICKETS | SATURDAY\, MAY 16 @ 4:30PM SHOW\n			\n			\n				\n				\n				\n				\n				\n				PURCHASE TICKETS | SATURDAY\, MAY 16 @ 7:00PM SHOW\n			\n			\n				\n				\n				\n				\n			\n				\n				\n				\n				\n				\n				\n				\n				\n				\n				\n				Artistree Performing Arts Middle School School Casts present School of Rock: Young Actors Edition!  Rock got no reason\, rock got no rhyme… You better get me to school on time! Andrew Lloyd Webber’s dynamic\, one-hour version of the musical based on the hit movie\, follows Dewey Finn\, a failed\, wannabe rock star who decides to earn an extra bit of cash by posing as a substitute teacher at a prestigious prep school. There he turns a class of straight-A pupils into a guitar-shredding\, bass-slapping\, mind-blowing rock band. But can he get them to the Battle of the Bands without their parents and the school’s headmistress finding out?
URL:https://emelin.org/event/artistree-performing-arts-present-school-of-rock-young-actors-edition-veronicas-friday-cast/
LOCATION:Emelin Theatre\, 153 Library Lane\, Mamaroneck\, NY\, 10543\, United States
CATEGORIES:Artistree
ATTACH;FMTTYPE=image/jpeg:https://emelin.org/wp-content/uploads/1200x600_Artistree_School-of-Rock_Middle-School.jpg
END:VEVENT
BEGIN:VEVENT
DTSTART;TZID=America/New_York:20260516T190000
DTEND;TZID=America/New_York:20260516T200000
DTSTAMP:20260419T233844
CREATED:20260416T161923Z
LAST-MODIFIED:20260416T161926Z
UID:10000726-1778958000-1778961600@emelin.org
SUMMARY:ARTISTREE PERFORMING ARTS present SCHOOL OF ROCK\, Young Actors Edition | Veronica’s Friday Cast
DESCRIPTION:Artistree Performing Arts\nMiddle School Casts present\nSCHOOL OF ROCK\, Young Actors Edition\nVeronica’s Friday Cast\nSaturday\, May 16\, 2026 @ 4:30pm & 7:00pm\nTickets: $20 – 31 youth ($14 – 25 ticket + $6 service fee) / $36 – 41 adult ($30 – 35 ticket + $6 service fee)\n			\n			\n				\n				\n				\n				\n			\n				\n				\n				\n				\n				\n				\n				PURCHASE TICKETS | SATURDAY\, MAY 16 @ 4:30PM SHOW\n			\n			\n				\n				\n				\n				\n				\n				PURCHASE TICKETS | SATURDAY\, MAY 16 @ 7:00PM SHOW\n			\n			\n				\n				\n				\n				\n			\n				\n				\n				\n				\n				\n				\n				\n				\n				\n				\n				Artistree Performing Arts Middle School School Casts present School of Rock: Young Actors Edition!  Rock got no reason\, rock got no rhyme… You better get me to school on time! Andrew Lloyd Webber’s dynamic\, one-hour version of the musical based on the hit movie\, follows Dewey Finn\, a failed\, wannabe rock star who decides to earn an extra bit of cash by posing as a substitute teacher at a prestigious prep school. There he turns a class of straight-A pupils into a guitar-shredding\, bass-slapping\, mind-blowing rock band. But can he get them to the Battle of the Bands without their parents and the school’s headmistress finding out?
URL:https://emelin.org/event/artistree-performing-arts-present-school-of-rock-young-actors-edition-veronicas-friday-cast-2/
LOCATION:Emelin Theatre\, 153 Library Lane\, Mamaroneck\, NY\, 10543\, United States
CATEGORIES:Artistree
ATTACH;FMTTYPE=image/jpeg:https://emelin.org/wp-content/uploads/1200x600_Artistree_School-of-Rock_Middle-School.jpg
END:VEVENT
BEGIN:VEVENT
DTSTART;TZID=America/New_York:20260517T140000
DTEND;TZID=America/New_York:20260517T150000
DTSTAMP:20260419T233844
CREATED:20260416T162340Z
LAST-MODIFIED:20260416T162343Z
UID:10000714-1779026400-1779030000@emelin.org
SUMMARY:ARTISTREE PERFORMING ARTS present SCHOOL OF ROCK\, Young Actors Edition | Zack's Saturday Cast
DESCRIPTION:Artistree Performing Arts\nMiddle School Casts present\nSCHOOL OF ROCK\, Young Actors Edition\nZack’s Saturday Cast\nSunday\, May 17\, 2026 @ 2:00pm & 4:30pm\nTickets: $20 – 31 youth ($14 – 25 ticket + $6 service fee) / $36 – 41 adult ($30 – 35 ticket + $6 service fee)\n			\n			\n				\n				\n				\n				\n			\n				\n				\n				\n				\n				\n				\n				PURCHASE TICKETS | SUNDAY\, MAY 17 @ 2:00PM SHOW\n			\n			\n				\n				\n				\n				\n				\n				PURCHASE TICKETS | SUNDAY\, MAY 17 @ 4:30PM SHOW\n			\n			\n				\n				\n				\n				\n			\n				\n				\n				\n				\n				\n				\n				\n				\n				\n				\n				Artistree Performing Arts Middle School School Casts present School of Rock: Young Actors Edition!  Rock got no reason\, rock got no rhyme… You better get me to school on time! Andrew Lloyd Webber’s dynamic\, one-hour version of the musical based on the hit movie\, follows Dewey Finn\, a failed\, wannabe rock star who decides to earn an extra bit of cash by posing as a substitute teacher at a prestigious prep school. There he turns a class of straight-A pupils into a guitar-shredding\, bass-slapping\, mind-blowing rock band. But can he get them to the Battle of the Bands without their parents and the school’s headmistress finding out?
URL:https://emelin.org/event/artistree-performing-arts-present-school-of-rock-young-actors-edition-zacks-saturday-cast-2/
LOCATION:Emelin Theatre\, 153 Library Lane\, Mamaroneck\, NY\, 10543\, United States
CATEGORIES:Artistree
ATTACH;FMTTYPE=image/jpeg:https://emelin.org/wp-content/uploads/1200x600_Artistree_School-of-Rock_Middle-School.jpg
END:VEVENT
BEGIN:VEVENT
DTSTART;TZID=America/New_York:20260517T163000
DTEND;TZID=America/New_York:20260517T173000
DTSTAMP:20260419T233844
CREATED:20260416T162337Z
LAST-MODIFIED:20260416T162341Z
UID:10000727-1779035400-1779039000@emelin.org
SUMMARY:ARTISTREE PERFORMING ARTS present SCHOOL OF ROCK\, Young Actors Edition | Zack's Saturday Cast
DESCRIPTION:Artistree Performing Arts\nMiddle School Casts present\nSCHOOL OF ROCK\, Young Actors Edition\nZack’s Saturday Cast\nSunday\, May 17\, 2026 @ 2:00pm & 4:30pm\nTickets: $20 – 31 youth ($14 – 25 ticket + $6 service fee) / $36 – 41 adult ($30 – 35 ticket + $6 service fee)\n			\n			\n				\n				\n				\n				\n			\n				\n				\n				\n				\n				\n				\n				PURCHASE TICKETS | SUNDAY\, MAY 17 @ 2:00PM SHOW\n			\n			\n				\n				\n				\n				\n				\n				PURCHASE TICKETS | SUNDAY\, MAY 17 @ 4:30PM SHOW\n			\n			\n				\n				\n				\n				\n			\n				\n				\n				\n				\n				\n				\n				\n				\n				\n				\n				Artistree Performing Arts Middle School School Casts present School of Rock: Young Actors Edition!  Rock got no reason\, rock got no rhyme… You better get me to school on time! Andrew Lloyd Webber’s dynamic\, one-hour version of the musical based on the hit movie\, follows Dewey Finn\, a failed\, wannabe rock star who decides to earn an extra bit of cash by posing as a substitute teacher at a prestigious prep school. There he turns a class of straight-A pupils into a guitar-shredding\, bass-slapping\, mind-blowing rock band. But can he get them to the Battle of the Bands without their parents and the school’s headmistress finding out?
URL:https://emelin.org/event/artistree-performing-arts-present-school-of-rock-young-actors-edition-zacks-saturday-cast/
LOCATION:Emelin Theatre\, 153 Library Lane\, Mamaroneck\, NY\, 10543\, United States
CATEGORIES:Artistree
ATTACH;FMTTYPE=image/jpeg:https://emelin.org/wp-content/uploads/1200x600_Artistree_School-of-Rock_Middle-School.jpg
END:VEVENT
END:VCALENDAR